BEGIN:VCALENDAR
VERSION:2.0
PRODID:-//Katholische Gemeinde Sankt Bernard Poppenbüttel - ECPv6.15.17.1//NONSGML v1.0//EN
CALSCALE:GREGORIAN
METHOD:PUBLISH
X-WR-CALNAME:Katholische Gemeinde Sankt Bernard Poppenbüttel
X-ORIGINAL-URL:https://sankt-bernard.ansgar-portal.de
X-WR-CALDESC:Veranstaltungen für Katholische Gemeinde Sankt Bernard Poppenbüttel
REFRESH-INTERVAL;VALUE=DURATION:PT1H
X-Robots-Tag:noindex
X-PUBLISHED-TTL:PT1H
BEGIN:VTIMEZONE
TZID:Europe/Berlin
BEGIN:DAYLIGHT
TZOFFSETFROM:+0100
TZOFFSETTO:+0200
TZNAME:CEST
DTSTART:20240331T010000
END:DAYLIGHT
BEGIN:STANDARD
TZOFFSETFROM:+0200
TZOFFSETTO:+0100
TZNAME:CET
DTSTART:20241027T010000
END:STANDARD
BEGIN:DAYLIGHT
TZOFFSETFROM:+0100
TZOFFSETTO:+0200
TZNAME:CEST
DTSTART:20250330T010000
END:DAYLIGHT
BEGIN:STANDARD
TZOFFSETFROM:+0200
TZOFFSETTO:+0100
TZNAME:CET
DTSTART:20251026T010000
END:STANDARD
BEGIN:DAYLIGHT
TZOFFSETFROM:+0100
TZOFFSETTO:+0200
TZNAME:CEST
DTSTART:20260329T010000
END:DAYLIGHT
BEGIN:STANDARD
TZOFFSETFROM:+0200
TZOFFSETTO:+0100
TZNAME:CET
DTSTART:20261025T010000
END:STANDARD
END:VTIMEZONE
BEGIN:VEVENT
DTSTART;TZID=Europe/Berlin:20251201T150000
DTEND;TZID=Europe/Berlin:20251201T150000
DTSTAMP:20260422T122519
CREATED:20251130T185059Z
LAST-MODIFIED:20251130T185059Z
UID:15210-1764601200-1764601200@sankt-bernard.ansgar-portal.de
SUMMARY:Rosenkranzandacht
DESCRIPTION:
URL:https://sankt-bernard.ansgar-portal.de/event/rosenkranzandacht-192/
END:VEVENT
BEGIN:VEVENT
DTSTART;TZID=Europe/Berlin:20251202T190000
DTEND;TZID=Europe/Berlin:20251202T190000
DTSTAMP:20260422T122519
CREATED:20251130T185130Z
LAST-MODIFIED:20251130T185130Z
UID:15212-1764702000-1764702000@sankt-bernard.ansgar-portal.de
SUMMARY:Wort-Gottes-Feier
DESCRIPTION:
URL:https://sankt-bernard.ansgar-portal.de/event/wort-gottes-feier-63/
END:VEVENT
BEGIN:VEVENT
DTSTART;TZID=Europe/Berlin:20251203T060000
DTEND;TZID=Europe/Berlin:20251203T060000
DTSTAMP:20260422T122519
CREATED:20251130T185217Z
LAST-MODIFIED:20251130T185217Z
UID:15214-1764741600-1764741600@sankt-bernard.ansgar-portal.de
SUMMARY:Rorate-Wortgottesdienst mit anschl. Frühstück
DESCRIPTION:
URL:https://sankt-bernard.ansgar-portal.de/event/rorate-wortgottesdienst-mit-anschl-fruehstueck-4/
END:VEVENT
BEGIN:VEVENT
DTSTART;TZID=Europe/Berlin:20251204T143000
DTEND;TZID=Europe/Berlin:20251204T143000
DTSTAMP:20260422T122519
CREATED:20251130T185301Z
LAST-MODIFIED:20251130T185301Z
UID:15216-1764858600-1764858600@sankt-bernard.ansgar-portal.de
SUMMARY:Seniorenmesse anschl. Adventsfeier (BWI)
DESCRIPTION:
URL:https://sankt-bernard.ansgar-portal.de/event/seniorenmesse-anschl-adventsfeier-bwi/
END:VEVENT
BEGIN:VEVENT
DTSTART;TZID=Europe/Berlin:20251206T180000
DTEND;TZID=Europe/Berlin:20251206T180000
DTSTAMP:20260422T122519
CREATED:20251130T185431Z
LAST-MODIFIED:20251130T185431Z
UID:15218-1765044000-1765044000@sankt-bernard.ansgar-portal.de
SUMMARY:Adventliche Stunde
DESCRIPTION:
URL:https://sankt-bernard.ansgar-portal.de/event/adventliche-stunde/
END:VEVENT
BEGIN:VEVENT
DTSTART;TZID=Europe/Berlin:20251207T113000
DTEND;TZID=Europe/Berlin:20251207T113000
DTSTAMP:20260422T122519
CREATED:20251130T185512Z
LAST-MODIFIED:20251130T185512Z
UID:15220-1765107000-1765107000@sankt-bernard.ansgar-portal.de
SUMMARY:Hl. Messe\, mit Firmbewerbern
DESCRIPTION:
URL:https://sankt-bernard.ansgar-portal.de/event/hl-messe-mit-firmbewerbern/
END:VEVENT
BEGIN:VEVENT
DTSTART;TZID=Europe/Berlin:20251207T160000
DTEND;TZID=Europe/Berlin:20251207T160000
DTSTAMP:20260422T122519
CREATED:20251130T185631Z
LAST-MODIFIED:20251130T185631Z
UID:15222-1765123200-1765123200@sankt-bernard.ansgar-portal.de
SUMMARY:Andacht in ungarischer Sprache
DESCRIPTION:
URL:https://sankt-bernard.ansgar-portal.de/event/andacht-in-ungarischer-sprache-35/
END:VEVENT
BEGIN:VEVENT
DTSTART;TZID=Europe/Berlin:20251207T180000
DTEND;TZID=Europe/Berlin:20251207T180000
DTSTAMP:20260422T122519
CREATED:20250119T174912Z
LAST-MODIFIED:20250119T174912Z
UID:14588-1765130400-1765130400@sankt-bernard.ansgar-portal.de
SUMMARY:Taizé-Andacht
DESCRIPTION:
URL:https://sankt-bernard.ansgar-portal.de/event/taize-andacht-53/
END:VEVENT
BEGIN:VEVENT
DTSTART;TZID=Europe/Berlin:20251207T180000
DTEND;TZID=Europe/Berlin:20251207T180000
DTSTAMP:20260422T122519
CREATED:20251130T185712Z
LAST-MODIFIED:20251130T185712Z
UID:15224-1765130400-1765130400@sankt-bernard.ansgar-portal.de
SUMMARY:Taizé Andacht
DESCRIPTION:
URL:https://sankt-bernard.ansgar-portal.de/event/taize-andacht-52/
END:VEVENT
BEGIN:VEVENT
DTSTART;TZID=Europe/Berlin:20251208T150000
DTEND;TZID=Europe/Berlin:20251208T150000
DTSTAMP:20260422T122519
CREATED:20251130T185749Z
LAST-MODIFIED:20251130T185749Z
UID:15226-1765206000-1765206000@sankt-bernard.ansgar-portal.de
SUMMARY:Rosenkranzandacht
DESCRIPTION:
URL:https://sankt-bernard.ansgar-portal.de/event/rosenkranzandacht-193/
END:VEVENT
BEGIN:VEVENT
DTSTART;TZID=Europe/Berlin:20251209T190000
DTEND;TZID=Europe/Berlin:20251209T190000
DTSTAMP:20260422T122519
CREATED:20251130T185838Z
LAST-MODIFIED:20251130T185838Z
UID:15228-1765306800-1765306800@sankt-bernard.ansgar-portal.de
SUMMARY:Hl. Messe (Ha)
DESCRIPTION:
URL:https://sankt-bernard.ansgar-portal.de/event/hl-messe-ha-27/
END:VEVENT
BEGIN:VEVENT
DTSTART;TZID=Europe/Berlin:20251210T060000
DTEND;TZID=Europe/Berlin:20251210T060000
DTSTAMP:20260422T122519
CREATED:20251130T185926Z
LAST-MODIFIED:20251130T185926Z
UID:15230-1765346400-1765346400@sankt-bernard.ansgar-portal.de
SUMMARY:Rorate-Wortgottesdienst mit anschl. Frühstück
DESCRIPTION:
URL:https://sankt-bernard.ansgar-portal.de/event/rorate-wortgottesdienst-mit-anschl-fruehstueck-5/
END:VEVENT
BEGIN:VEVENT
DTSTART;TZID=Europe/Berlin:20251213T113000
DTEND;TZID=Europe/Berlin:20251213T113000
DTSTAMP:20260422T122519
CREATED:20251130T190143Z
LAST-MODIFIED:20251130T190143Z
UID:15232-1765625400-1765625400@sankt-bernard.ansgar-portal.de
SUMMARY:Taufe (Ha)
DESCRIPTION:
URL:https://sankt-bernard.ansgar-portal.de/event/taufe-ha-3/
END:VEVENT
BEGIN:VEVENT
DTSTART;TZID=Europe/Berlin:20251213T180000
DTEND;TZID=Europe/Berlin:20251213T180000
DTSTAMP:20260422T122519
CREATED:20251130T190254Z
LAST-MODIFIED:20251130T190254Z
UID:15234-1765648800-1765648800@sankt-bernard.ansgar-portal.de
SUMMARY:Adventliche Stunde
DESCRIPTION:
URL:https://sankt-bernard.ansgar-portal.de/event/adventliche-stunde-2/
END:VEVENT
BEGIN:VEVENT
DTSTART;TZID=Europe/Berlin:20251214T113000
DTEND;TZID=Europe/Berlin:20251214T113000
DTSTAMP:20260422T122519
CREATED:20251130T190358Z
LAST-MODIFIED:20251130T190413Z
UID:15236-1765711800-1765711800@sankt-bernard.ansgar-portal.de
SUMMARY:Hl. Messe mit Firmbewerbern (Ze)
DESCRIPTION:
URL:https://sankt-bernard.ansgar-portal.de/event/hl-messe-mit-firmbewerbern-2/
END:VEVENT
BEGIN:VEVENT
DTSTART;TZID=Europe/Berlin:20251215T150000
DTEND;TZID=Europe/Berlin:20251215T150000
DTSTAMP:20260422T122519
CREATED:20251130T190515Z
LAST-MODIFIED:20251130T190515Z
UID:15239-1765810800-1765810800@sankt-bernard.ansgar-portal.de
SUMMARY:Rosenkranzandacht
DESCRIPTION:
URL:https://sankt-bernard.ansgar-portal.de/event/rosenkranzandacht-194/
END:VEVENT
BEGIN:VEVENT
DTSTART;TZID=Europe/Berlin:20251216T190000
DTEND;TZID=Europe/Berlin:20251216T190000
DTSTAMP:20260422T122519
CREATED:20251130T191350Z
LAST-MODIFIED:20251130T191350Z
UID:15241-1765911600-1765911600@sankt-bernard.ansgar-portal.de
SUMMARY:Hl. Messe (Ze)
DESCRIPTION:
URL:https://sankt-bernard.ansgar-portal.de/event/hl-messe-ze-14/
END:VEVENT
BEGIN:VEVENT
DTSTART;TZID=Europe/Berlin:20251217T060000
DTEND;TZID=Europe/Berlin:20251217T060000
DTSTAMP:20260422T122519
CREATED:20251130T191601Z
LAST-MODIFIED:20251130T191601Z
UID:15243-1765951200-1765951200@sankt-bernard.ansgar-portal.de
SUMMARY:Rorate-Wortgottesdienst mit anschl. Frühstück
DESCRIPTION:
URL:https://sankt-bernard.ansgar-portal.de/event/rorate-wortgottesdienst-mit-anschl-fruehstueck-6/
END:VEVENT
BEGIN:VEVENT
DTSTART;TZID=Europe/Berlin:20251220T163000
DTEND;TZID=Europe/Berlin:20251220T163000
DTSTAMP:20260422T122519
CREATED:20251130T191651Z
LAST-MODIFIED:20251130T191651Z
UID:15245-1766248200-1766248200@sankt-bernard.ansgar-portal.de
SUMMARY:Beichte (Ha)
DESCRIPTION:
URL:https://sankt-bernard.ansgar-portal.de/event/beichte-ha-2/
END:VEVENT
BEGIN:VEVENT
DTSTART;TZID=Europe/Berlin:20251220T173000
DTEND;TZID=Europe/Berlin:20251220T173000
DTSTAMP:20260422T122519
CREATED:20251130T191736Z
LAST-MODIFIED:20251130T191736Z
UID:15247-1766251800-1766251800@sankt-bernard.ansgar-portal.de
SUMMARY:Vorabendmesse (Ha)
DESCRIPTION:
URL:https://sankt-bernard.ansgar-portal.de/event/vorabendmesse-ha-2/
END:VEVENT
BEGIN:VEVENT
DTSTART;TZID=Europe/Berlin:20251221T113000
DTEND;TZID=Europe/Berlin:20251221T113000
DTSTAMP:20260422T122519
CREATED:20251130T191831Z
LAST-MODIFIED:20251130T191831Z
UID:15249-1766316600-1766316600@sankt-bernard.ansgar-portal.de
SUMMARY:Wort-Gottes-Feier
DESCRIPTION:
URL:https://sankt-bernard.ansgar-portal.de/event/wort-gottes-feier-64/
END:VEVENT
BEGIN:VEVENT
DTSTART;TZID=Europe/Berlin:20251222T150000
DTEND;TZID=Europe/Berlin:20251222T150000
DTSTAMP:20260422T122519
CREATED:20251130T191903Z
LAST-MODIFIED:20251130T191903Z
UID:15251-1766415600-1766415600@sankt-bernard.ansgar-portal.de
SUMMARY:Rosenkranzandacht
DESCRIPTION:
URL:https://sankt-bernard.ansgar-portal.de/event/rosenkranzandacht-195/
END:VEVENT
BEGIN:VEVENT
DTSTART;TZID=Europe/Berlin:20251223T190000
DTEND;TZID=Europe/Berlin:20251223T190000
DTSTAMP:20260422T122519
CREATED:20251130T191943Z
LAST-MODIFIED:20251130T191943Z
UID:15253-1766516400-1766516400@sankt-bernard.ansgar-portal.de
SUMMARY:Hl. Messe (Gei)
DESCRIPTION:
URL:https://sankt-bernard.ansgar-portal.de/event/hl-messe-gei-6/
END:VEVENT
BEGIN:VEVENT
DTSTART;TZID=Europe/Berlin:20251224T153000
DTEND;TZID=Europe/Berlin:20251224T153000
DTSTAMP:20260422T122519
CREATED:20251130T192121Z
LAST-MODIFIED:20251130T192121Z
UID:15255-1766590200-1766590200@sankt-bernard.ansgar-portal.de
SUMMARY:Krippenfeier
DESCRIPTION:
URL:https://sankt-bernard.ansgar-portal.de/event/krippenfeier-2/
END:VEVENT
BEGIN:VEVENT
DTSTART;TZID=Europe/Berlin:20251224T173000
DTEND;TZID=Europe/Berlin:20251224T173000
DTSTAMP:20260422T122519
CREATED:20251130T192202Z
LAST-MODIFIED:20251130T192202Z
UID:15257-1766597400-1766597400@sankt-bernard.ansgar-portal.de
SUMMARY:Weihnachtsvesper
DESCRIPTION:
URL:https://sankt-bernard.ansgar-portal.de/event/weihnachtsvesper/
END:VEVENT
BEGIN:VEVENT
DTSTART;TZID=Europe/Berlin:20251224T220000
DTEND;TZID=Europe/Berlin:20251224T220000
DTSTAMP:20260422T122519
CREATED:20251130T192314Z
LAST-MODIFIED:20251130T192314Z
UID:15259-1766613600-1766613600@sankt-bernard.ansgar-portal.de
SUMMARY:Christmette (Ha)
DESCRIPTION:
URL:https://sankt-bernard.ansgar-portal.de/event/christmette-ha/
END:VEVENT
BEGIN:VEVENT
DTSTART;TZID=Europe/Berlin:20251225T113000
DTEND;TZID=Europe/Berlin:20251225T113000
DTSTAMP:20260422T122519
CREATED:20251130T192519Z
LAST-MODIFIED:20251130T192519Z
UID:15261-1766662200-1766662200@sankt-bernard.ansgar-portal.de
SUMMARY:Hl. Messe (Ze)
DESCRIPTION:
URL:https://sankt-bernard.ansgar-portal.de/event/hl-messe-ze-15/
END:VEVENT
BEGIN:VEVENT
DTSTART;TZID=Europe/Berlin:20251226T113000
DTEND;TZID=Europe/Berlin:20251226T113000
DTSTAMP:20260422T122519
CREATED:20251130T192556Z
LAST-MODIFIED:20251130T192556Z
UID:15263-1766748600-1766748600@sankt-bernard.ansgar-portal.de
SUMMARY:Hl. Messe (Gei)
DESCRIPTION:
URL:https://sankt-bernard.ansgar-portal.de/event/hl-messe-gei-7/
END:VEVENT
BEGIN:VEVENT
DTSTART;TZID=Europe/Berlin:20251228T113000
DTEND;TZID=Europe/Berlin:20251228T113000
DTSTAMP:20260422T122519
CREATED:20251130T192701Z
LAST-MODIFIED:20251130T192701Z
UID:15265-1766921400-1766921400@sankt-bernard.ansgar-portal.de
SUMMARY:Hl. Messe (Gei)
DESCRIPTION:
URL:https://sankt-bernard.ansgar-portal.de/event/hl-messe-gei-8/
END:VEVENT
BEGIN:VEVENT
DTSTART;TZID=Europe/Berlin:20251229T150000
DTEND;TZID=Europe/Berlin:20251229T150000
DTSTAMP:20260422T122519
CREATED:20251130T192757Z
LAST-MODIFIED:20251130T192757Z
UID:15267-1767020400-1767020400@sankt-bernard.ansgar-portal.de
SUMMARY:Rosenkranzandacht
DESCRIPTION:
URL:https://sankt-bernard.ansgar-portal.de/event/rosenkranzandacht-196/
END:VEVENT
END:VCALENDAR