BEGIN:VCALENDAR
VERSION:2.0
PRODID:-//Katholische Gemeinde Sankt Bernard Poppenbüttel - ECPv6.15.17.1//NONSGML v1.0//EN
CALSCALE:GREGORIAN
METHOD:PUBLISH
X-WR-CALNAME:Katholische Gemeinde Sankt Bernard Poppenbüttel
X-ORIGINAL-URL:https://sankt-bernard.ansgar-portal.de
X-WR-CALDESC:Veranstaltungen für Katholische Gemeinde Sankt Bernard Poppenbüttel
REFRESH-INTERVAL;VALUE=DURATION:PT1H
X-Robots-Tag:noindex
X-PUBLISHED-TTL:PT1H
BEGIN:VTIMEZONE
TZID:Europe/Berlin
BEGIN:DAYLIGHT
TZOFFSETFROM:+0100
TZOFFSETTO:+0200
TZNAME:CEST
DTSTART:20240331T010000
END:DAYLIGHT
BEGIN:STANDARD
TZOFFSETFROM:+0200
TZOFFSETTO:+0100
TZNAME:CET
DTSTART:20241027T010000
END:STANDARD
BEGIN:DAYLIGHT
TZOFFSETFROM:+0100
TZOFFSETTO:+0200
TZNAME:CEST
DTSTART:20250330T010000
END:DAYLIGHT
BEGIN:STANDARD
TZOFFSETFROM:+0200
TZOFFSETTO:+0100
TZNAME:CET
DTSTART:20251026T010000
END:STANDARD
BEGIN:DAYLIGHT
TZOFFSETFROM:+0100
TZOFFSETTO:+0200
TZNAME:CEST
DTSTART:20260329T010000
END:DAYLIGHT
BEGIN:STANDARD
TZOFFSETFROM:+0200
TZOFFSETTO:+0100
TZNAME:CET
DTSTART:20261025T010000
END:STANDARD
END:VTIMEZONE
BEGIN:VEVENT
DTSTART;TZID=Europe/Berlin:20250901T150000
DTEND;TZID=Europe/Berlin:20250901T150000
DTSTAMP:20260420T113211
CREATED:20250830T212154Z
LAST-MODIFIED:20250830T212154Z
UID:14990-1756738800-1756738800@sankt-bernard.ansgar-portal.de
SUMMARY:Rosenkranzandacht
DESCRIPTION:
URL:https://sankt-bernard.ansgar-portal.de/event/rosenkranzandacht-183/
END:VEVENT
BEGIN:VEVENT
DTSTART;TZID=Europe/Berlin:20250905T083000
DTEND;TZID=Europe/Berlin:20250905T083000
DTSTAMP:20260420T113211
CREATED:20250830T212325Z
LAST-MODIFIED:20250830T212325Z
UID:14992-1757061000-1757061000@sankt-bernard.ansgar-portal.de
SUMMARY:Hl.Messe - P. Hammer
DESCRIPTION:
URL:https://sankt-bernard.ansgar-portal.de/event/hl-messe-p-hammer-10/
END:VEVENT
BEGIN:VEVENT
DTSTART;TZID=Europe/Berlin:20250907T113000
DTEND;TZID=Europe/Berlin:20250907T113000
DTSTAMP:20260420T113211
CREATED:20250830T212439Z
LAST-MODIFIED:20250830T212439Z
UID:14994-1757244600-1757244600@sankt-bernard.ansgar-portal.de
SUMMARY:Hl. Messe - P. Zephyryn
DESCRIPTION:
URL:https://sankt-bernard.ansgar-portal.de/event/hl-messe-p-zephyryn/
END:VEVENT
BEGIN:VEVENT
DTSTART;TZID=Europe/Berlin:20250907T160000
DTEND;TZID=Europe/Berlin:20250907T160000
DTSTAMP:20260420T113211
CREATED:20250830T212547Z
LAST-MODIFIED:20250830T212547Z
UID:14996-1757260800-1757260800@sankt-bernard.ansgar-portal.de
SUMMARY:Andacht in ungarischer Sprache
DESCRIPTION:
URL:https://sankt-bernard.ansgar-portal.de/event/andacht-in-ungarischer-sprache-32/
END:VEVENT
BEGIN:VEVENT
DTSTART;TZID=Europe/Berlin:20250928T180000
DTEND;TZID=Europe/Berlin:20250928T180000
DTSTAMP:20260420T113211
CREATED:20250119T174707Z
LAST-MODIFIED:20250119T174707Z
UID:14582-1759082400-1759082400@sankt-bernard.ansgar-portal.de
SUMMARY:Taizé-Andacht
DESCRIPTION:
URL:https://sankt-bernard.ansgar-portal.de/event/taize-andacht-50/
END:VEVENT
BEGIN:VEVENT
DTSTART;TZID=Europe/Berlin:20250930T160000
DTEND;TZID=Europe/Berlin:20250930T185504
DTSTAMP:20260420T113211
CREATED:20250930T185503Z
LAST-MODIFIED:20250930T185503Z
UID:15058-1759248000-1759258504@sankt-bernard.ansgar-portal.de
SUMMARY:Andacht in ungarischer Sprache
DESCRIPTION:
URL:https://sankt-bernard.ansgar-portal.de/event/andacht-in-ungarischer-sprache-34/
END:VEVENT
END:VCALENDAR