BEGIN:VCALENDAR
VERSION:2.0
PRODID:-//Katholische Gemeinde Sankt Bernard Poppenbüttel - ECPv6.15.17.1//NONSGML v1.0//EN
CALSCALE:GREGORIAN
METHOD:PUBLISH
X-ORIGINAL-URL:https://sankt-bernard.ansgar-portal.de
X-WR-CALDESC:Veranstaltungen für Katholische Gemeinde Sankt Bernard Poppenbüttel
REFRESH-INTERVAL;VALUE=DURATION:PT1H
X-Robots-Tag:noindex
X-PUBLISHED-TTL:PT1H
BEGIN:VTIMEZONE
TZID:Europe/Berlin
BEGIN:DAYLIGHT
TZOFFSETFROM:+0100
TZOFFSETTO:+0200
TZNAME:CEST
DTSTART:20240331T010000
END:DAYLIGHT
BEGIN:STANDARD
TZOFFSETFROM:+0200
TZOFFSETTO:+0100
TZNAME:CET
DTSTART:20241027T010000
END:STANDARD
BEGIN:DAYLIGHT
TZOFFSETFROM:+0100
TZOFFSETTO:+0200
TZNAME:CEST
DTSTART:20250330T010000
END:DAYLIGHT
BEGIN:STANDARD
TZOFFSETFROM:+0200
TZOFFSETTO:+0100
TZNAME:CET
DTSTART:20251026T010000
END:STANDARD
BEGIN:DAYLIGHT
TZOFFSETFROM:+0100
TZOFFSETTO:+0200
TZNAME:CEST
DTSTART:20260329T010000
END:DAYLIGHT
BEGIN:STANDARD
TZOFFSETFROM:+0200
TZOFFSETTO:+0100
TZNAME:CET
DTSTART:20261025T010000
END:STANDARD
END:VTIMEZONE
BEGIN:VEVENT
DTSTART;TZID=Europe/Berlin:20250502T083000
DTEND;TZID=Europe/Berlin:20250502T083000
DTSTAMP:20260419T165536
CREATED:20250405T180246Z
LAST-MODIFIED:20250405T180246Z
UID:14755-1746174600-1746174600@sankt-bernard.ansgar-portal.de
SUMMARY:Hl. Messe mit eucharistischem Segen (Ha)
DESCRIPTION:
URL:https://sankt-bernard.ansgar-portal.de/event/hl-messe-mit-eucharistischem-segen-ha-5/
END:VEVENT
BEGIN:VEVENT
DTSTART;TZID=Europe/Berlin:20250504T113000
DTEND;TZID=Europe/Berlin:20250504T113000
DTSTAMP:20260419T165536
CREATED:20250405T180331Z
LAST-MODIFIED:20250405T180331Z
UID:14757-1746358200-1746358200@sankt-bernard.ansgar-portal.de
SUMMARY:Hl. Messe (Ha)
DESCRIPTION:
URL:https://sankt-bernard.ansgar-portal.de/event/hl-messe-ha-15/
END:VEVENT
BEGIN:VEVENT
DTSTART;TZID=Europe/Berlin:20250504T160000
DTEND;TZID=Europe/Berlin:20250504T160000
DTSTAMP:20260419T165536
CREATED:20250405T180350Z
LAST-MODIFIED:20250405T180350Z
UID:14759-1746374400-1746374400@sankt-bernard.ansgar-portal.de
SUMMARY:Andacht in ungarischer Sprache
DESCRIPTION:
URL:https://sankt-bernard.ansgar-portal.de/event/andacht-in-ungarischer-sprache-28/
END:VEVENT
BEGIN:VEVENT
DTSTART;TZID=Europe/Berlin:20250504T160000
DTEND;TZID=Europe/Berlin:20250504T160000
DTSTAMP:20260419T165536
CREATED:20250504T120139Z
LAST-MODIFIED:20250504T120139Z
UID:14784-1746374400-1746374400@sankt-bernard.ansgar-portal.de
SUMMARY:Andacht in ungarischer Sprache
DESCRIPTION:
URL:https://sankt-bernard.ansgar-portal.de/event/andacht-in-ungarischer-sprache-29/
END:VEVENT
BEGIN:VEVENT
DTSTART;TZID=Europe/Berlin:20250505T150000
DTEND;TZID=Europe/Berlin:20250505T150000
DTSTAMP:20260419T165536
CREATED:20250504T120207Z
LAST-MODIFIED:20250504T120207Z
UID:14786-1746457200-1746457200@sankt-bernard.ansgar-portal.de
SUMMARY:Rosenkranzandacht
DESCRIPTION:
URL:https://sankt-bernard.ansgar-portal.de/event/rosenkranzandacht-169/
END:VEVENT
BEGIN:VEVENT
DTSTART;TZID=Europe/Berlin:20250509T083000
DTEND;TZID=Europe/Berlin:20250509T083000
DTSTAMP:20260419T165536
CREATED:20250504T120255Z
LAST-MODIFIED:20250504T120255Z
UID:14788-1746779400-1746779400@sankt-bernard.ansgar-portal.de
SUMMARY:Hl. Messe (Ha)
DESCRIPTION:
URL:https://sankt-bernard.ansgar-portal.de/event/hl-messe-ha-16/
END:VEVENT
BEGIN:VEVENT
DTSTART;TZID=Europe/Berlin:20250510T113000
DTEND;TZID=Europe/Berlin:20250510T113000
DTSTAMP:20260419T165536
CREATED:20250504T120326Z
LAST-MODIFIED:20250504T120326Z
UID:14790-1746876600-1746876600@sankt-bernard.ansgar-portal.de
SUMMARY:Taufe (Ha)
DESCRIPTION:
URL:https://sankt-bernard.ansgar-portal.de/event/taufe-ha-2/
END:VEVENT
BEGIN:VEVENT
DTSTART;TZID=Europe/Berlin:20250511T113000
DTEND;TZID=Europe/Berlin:20250511T113000
DTSTAMP:20260419T165536
CREATED:20250504T120407Z
LAST-MODIFIED:20250504T120407Z
UID:14792-1746963000-1746963000@sankt-bernard.ansgar-portal.de
SUMMARY:Hl. Messe (Wic)
DESCRIPTION:
URL:https://sankt-bernard.ansgar-portal.de/event/hl-messe-wic-5/
END:VEVENT
BEGIN:VEVENT
DTSTART;TZID=Europe/Berlin:20250511T180000
DTEND;TZID=Europe/Berlin:20250511T180000
DTSTAMP:20260419T165536
CREATED:20250119T174220Z
LAST-MODIFIED:20250119T174220Z
UID:14574-1746986400-1746986400@sankt-bernard.ansgar-portal.de
SUMMARY:Taizé-Andacht
DESCRIPTION:
URL:https://sankt-bernard.ansgar-portal.de/event/taize-andacht-46/
END:VEVENT
BEGIN:VEVENT
DTSTART;TZID=Europe/Berlin:20250511T180000
DTEND;TZID=Europe/Berlin:20250511T180000
DTSTAMP:20260419T165536
CREATED:20250504T120433Z
LAST-MODIFIED:20250504T120433Z
UID:14794-1746986400-1746986400@sankt-bernard.ansgar-portal.de
SUMMARY:Taizé Andacht
DESCRIPTION:
URL:https://sankt-bernard.ansgar-portal.de/event/taize-andacht-45/
END:VEVENT
BEGIN:VEVENT
DTSTART;TZID=Europe/Berlin:20250512T150000
DTEND;TZID=Europe/Berlin:20250512T150000
DTSTAMP:20260419T165536
CREATED:20250504T120457Z
LAST-MODIFIED:20250504T120457Z
UID:14796-1747062000-1747062000@sankt-bernard.ansgar-portal.de
SUMMARY:Rosenkranzandacht
DESCRIPTION:
URL:https://sankt-bernard.ansgar-portal.de/event/rosenkranzandacht-170/
END:VEVENT
BEGIN:VEVENT
DTSTART;TZID=Europe/Berlin:20250515T150000
DTEND;TZID=Europe/Berlin:20250515T150000
DTSTAMP:20260419T165536
CREATED:20250504T120535Z
LAST-MODIFIED:20250504T120535Z
UID:14798-1747321200-1747321200@sankt-bernard.ansgar-portal.de
SUMMARY:Seniorenmesse (Bwi)
DESCRIPTION:
URL:https://sankt-bernard.ansgar-portal.de/event/seniorenmesse-bwi/
END:VEVENT
BEGIN:VEVENT
DTSTART;TZID=Europe/Berlin:20250516T083000
DTEND;TZID=Europe/Berlin:20250516T083000
DTSTAMP:20260419T165536
CREATED:20250504T120602Z
LAST-MODIFIED:20250504T120602Z
UID:14800-1747384200-1747384200@sankt-bernard.ansgar-portal.de
SUMMARY:Hl. Messe (Wic)
DESCRIPTION:
URL:https://sankt-bernard.ansgar-portal.de/event/hl-messe-wic-6/
END:VEVENT
BEGIN:VEVENT
DTSTART;TZID=Europe/Berlin:20250517T110000
DTEND;TZID=Europe/Berlin:20250517T110000
DTSTAMP:20260419T165536
CREATED:20250504T120640Z
LAST-MODIFIED:20250504T120704Z
UID:14802-1747479600-1747479600@sankt-bernard.ansgar-portal.de
SUMMARY:Erstkommuniongottesdienst 1 (Ze)
DESCRIPTION:
URL:https://sankt-bernard.ansgar-portal.de/event/erstkommuniongottesdienst-ze/
END:VEVENT
BEGIN:VEVENT
DTSTART;TZID=Europe/Berlin:20250517T143000
DTEND;TZID=Europe/Berlin:20250517T143000
DTSTAMP:20260419T165536
CREATED:20250504T120744Z
LAST-MODIFIED:20250504T120845Z
UID:14805-1747492200-1747492200@sankt-bernard.ansgar-portal.de
SUMMARY:Erstkommuniongottesdienst 2 (Ze)
DESCRIPTION:
URL:https://sankt-bernard.ansgar-portal.de/event/st-bernard-erstkommuniongottesdienst-2-ze/
END:VEVENT
BEGIN:VEVENT
DTSTART;TZID=Europe/Berlin:20250518T113000
DTEND;TZID=Europe/Berlin:20250518T113000
DTSTAMP:20260419T165536
CREATED:20250504T120826Z
LAST-MODIFIED:20250504T120826Z
UID:14807-1747567800-1747567800@sankt-bernard.ansgar-portal.de
SUMMARY:Wort-Gottes-Feier
DESCRIPTION:
URL:https://sankt-bernard.ansgar-portal.de/event/wort-gottes-feier-59/
END:VEVENT
BEGIN:VEVENT
DTSTART;TZID=Europe/Berlin:20250519T150000
DTEND;TZID=Europe/Berlin:20250519T150000
DTSTAMP:20260419T165536
CREATED:20250504T120925Z
LAST-MODIFIED:20250504T120925Z
UID:14810-1747666800-1747666800@sankt-bernard.ansgar-portal.de
SUMMARY:Rosenkranzandacht
DESCRIPTION:
URL:https://sankt-bernard.ansgar-portal.de/event/rosenkranzandacht-171/
END:VEVENT
BEGIN:VEVENT
DTSTART;TZID=Europe/Berlin:20250523T083000
DTEND;TZID=Europe/Berlin:20250523T083000
DTSTAMP:20260419T165536
CREATED:20250504T121001Z
LAST-MODIFIED:20250504T121001Z
UID:14812-1747989000-1747989000@sankt-bernard.ansgar-portal.de
SUMMARY:Hl. Messe (Ha)
DESCRIPTION:
URL:https://sankt-bernard.ansgar-portal.de/event/hl-messe-ha-17/
END:VEVENT
BEGIN:VEVENT
DTSTART;TZID=Europe/Berlin:20250525T113000
DTEND;TZID=Europe/Berlin:20250525T113000
DTSTAMP:20260419T165536
CREATED:20250504T121053Z
LAST-MODIFIED:20250504T121053Z
UID:14814-1748172600-1748172600@sankt-bernard.ansgar-portal.de
SUMMARY:Hl. Messe (Wic)
DESCRIPTION:
URL:https://sankt-bernard.ansgar-portal.de/event/hl-messe-wic-7/
END:VEVENT
BEGIN:VEVENT
DTSTART;TZID=Europe/Berlin:20250526T150000
DTEND;TZID=Europe/Berlin:20250526T150000
DTSTAMP:20260419T165536
CREATED:20250504T121120Z
LAST-MODIFIED:20250504T121120Z
UID:14816-1748271600-1748271600@sankt-bernard.ansgar-portal.de
SUMMARY:Rosenkranzandacht
DESCRIPTION:
URL:https://sankt-bernard.ansgar-portal.de/event/rosenkranzandacht-172/
END:VEVENT
BEGIN:VEVENT
DTSTART;TZID=Europe/Berlin:20250529T113000
DTEND;TZID=Europe/Berlin:20250529T113000
DTSTAMP:20260419T165536
CREATED:20250504T121156Z
LAST-MODIFIED:20250504T121156Z
UID:14818-1748518200-1748518200@sankt-bernard.ansgar-portal.de
SUMMARY:Hl. Messe zu Christi Himmelfahrt (Wic)
DESCRIPTION:
URL:https://sankt-bernard.ansgar-portal.de/event/hl-messe-zu-christi-himmelfahrt-wic/
END:VEVENT
END:VCALENDAR