BEGIN:VCALENDAR
VERSION:2.0
PRODID:-//Katholische Gemeinde Sankt Bernard Poppenbüttel - ECPv6.15.17.1//NONSGML v1.0//EN
CALSCALE:GREGORIAN
METHOD:PUBLISH
X-WR-CALNAME:Katholische Gemeinde Sankt Bernard Poppenbüttel
X-ORIGINAL-URL:https://sankt-bernard.ansgar-portal.de
X-WR-CALDESC:Veranstaltungen für Katholische Gemeinde Sankt Bernard Poppenbüttel
REFRESH-INTERVAL;VALUE=DURATION:PT1H
X-Robots-Tag:noindex
X-PUBLISHED-TTL:PT1H
BEGIN:VTIMEZONE
TZID:Europe/Berlin
BEGIN:DAYLIGHT
TZOFFSETFROM:+0100
TZOFFSETTO:+0200
TZNAME:CEST
DTSTART:20230326T010000
END:DAYLIGHT
BEGIN:STANDARD
TZOFFSETFROM:+0200
TZOFFSETTO:+0100
TZNAME:CET
DTSTART:20231029T010000
END:STANDARD
BEGIN:DAYLIGHT
TZOFFSETFROM:+0100
TZOFFSETTO:+0200
TZNAME:CEST
DTSTART:20240331T010000
END:DAYLIGHT
BEGIN:STANDARD
TZOFFSETFROM:+0200
TZOFFSETTO:+0100
TZNAME:CET
DTSTART:20241027T010000
END:STANDARD
BEGIN:DAYLIGHT
TZOFFSETFROM:+0100
TZOFFSETTO:+0200
TZNAME:CEST
DTSTART:20250330T010000
END:DAYLIGHT
BEGIN:STANDARD
TZOFFSETFROM:+0200
TZOFFSETTO:+0100
TZNAME:CET
DTSTART:20251026T010000
END:STANDARD
END:VTIMEZONE
BEGIN:VEVENT
DTSTART;TZID=Europe/Berlin:20240901T111500
DTEND;TZID=Europe/Berlin:20240901T111500
DTSTAMP:20260425T140047
CREATED:20240704T165912Z
LAST-MODIFIED:20240704T165912Z
UID:14019-1725189300-1725189300@sankt-bernard.ansgar-portal.de
SUMMARY:Hl. Messe - (Wic)
DESCRIPTION:22. Sonntag im Jahreskreis B
URL:https://sankt-bernard.ansgar-portal.de/event/hl-messe-wic-2/
END:VEVENT
BEGIN:VEVENT
DTSTART;TZID=Europe/Berlin:20240901T160000
DTEND;TZID=Europe/Berlin:20240901T160000
DTSTAMP:20260425T140048
CREATED:20240704T165944Z
LAST-MODIFIED:20240704T165944Z
UID:14021-1725206400-1725206400@sankt-bernard.ansgar-portal.de
SUMMARY:Andacht in ungarischer Sprache
DESCRIPTION:
URL:https://sankt-bernard.ansgar-portal.de/event/andacht-in-ungarischer-sprache-22/
END:VEVENT
BEGIN:VEVENT
DTSTART;TZID=Europe/Berlin:20240922T180000
DTEND;TZID=Europe/Berlin:20240922T180000
DTSTAMP:20260425T140048
CREATED:20231203T185141Z
LAST-MODIFIED:20231203T185141Z
UID:12921-1727028000-1727028000@sankt-bernard.ansgar-portal.de
SUMMARY:Taizé-Andacht
DESCRIPTION:
URL:https://sankt-bernard.ansgar-portal.de/event/taize-andacht-36/
END:VEVENT
BEGIN:VEVENT
DTSTART;TZID=Europe/Berlin:20240930T191500
DTEND;TZID=Europe/Berlin:20240930T191500
DTSTAMP:20260425T140048
CREATED:20240930T083856Z
LAST-MODIFIED:20240930T083856Z
UID:14109-1727723700-1727723700@sankt-bernard.ansgar-portal.de
SUMMARY:Rosenkranzandacht
DESCRIPTION:
URL:https://sankt-bernard.ansgar-portal.de/event/rosenkranzandacht-143/
END:VEVENT
END:VCALENDAR