BEGIN:VCALENDAR
VERSION:2.0
PRODID:-//Katholische Gemeinde Sankt Bernard Poppenbüttel - ECPv6.15.17.1//NONSGML v1.0//EN
CALSCALE:GREGORIAN
METHOD:PUBLISH
X-ORIGINAL-URL:https://sankt-bernard.ansgar-portal.de
X-WR-CALDESC:Veranstaltungen für Katholische Gemeinde Sankt Bernard Poppenbüttel
REFRESH-INTERVAL;VALUE=DURATION:PT1H
X-Robots-Tag:noindex
X-PUBLISHED-TTL:PT1H
BEGIN:VTIMEZONE
TZID:Europe/Berlin
BEGIN:DAYLIGHT
TZOFFSETFROM:+0100
TZOFFSETTO:+0200
TZNAME:CEST
DTSTART:20220327T010000
END:DAYLIGHT
BEGIN:STANDARD
TZOFFSETFROM:+0200
TZOFFSETTO:+0100
TZNAME:CET
DTSTART:20221030T010000
END:STANDARD
BEGIN:DAYLIGHT
TZOFFSETFROM:+0100
TZOFFSETTO:+0200
TZNAME:CEST
DTSTART:20230326T010000
END:DAYLIGHT
BEGIN:STANDARD
TZOFFSETFROM:+0200
TZOFFSETTO:+0100
TZNAME:CET
DTSTART:20231029T010000
END:STANDARD
BEGIN:DAYLIGHT
TZOFFSETFROM:+0100
TZOFFSETTO:+0200
TZNAME:CEST
DTSTART:20240331T010000
END:DAYLIGHT
BEGIN:STANDARD
TZOFFSETFROM:+0200
TZOFFSETTO:+0100
TZNAME:CET
DTSTART:20241027T010000
END:STANDARD
END:VTIMEZONE
BEGIN:VEVENT
DTSTART;TZID=Europe/Berlin:20230101T111500
DTEND;TZID=Europe/Berlin:20230101T111500
DTSTAMP:20260420T015453
CREATED:20221204T223511Z
LAST-MODIFIED:20221204T223511Z
UID:11539-1672571700-1672571700@sankt-bernard.ansgar-portal.de
SUMMARY:Hl. Messe - Pater Paul
DESCRIPTION:
URL:https://sankt-bernard.ansgar-portal.de/event/hl-messe-pater-paul-11/
CATEGORIES:Gottesdienst
END:VEVENT
BEGIN:VEVENT
DTSTART;TZID=Europe/Berlin:20230101T160000
DTEND;TZID=Europe/Berlin:20230101T160000
DTSTAMP:20260420T015453
CREATED:20221204T223546Z
LAST-MODIFIED:20221204T223546Z
UID:11541-1672588800-1672588800@sankt-bernard.ansgar-portal.de
SUMMARY:Andacht in ungarischer Sprache
DESCRIPTION:
URL:https://sankt-bernard.ansgar-portal.de/event/andacht-in-ungarischer-sprache-12/
CATEGORIES:Gottesdienst
END:VEVENT
BEGIN:VEVENT
DTSTART;TZID=Europe/Berlin:20230102T191500
DTEND;TZID=Europe/Berlin:20230102T191500
DTSTAMP:20260420T015453
CREATED:20221204T223611Z
LAST-MODIFIED:20221204T223611Z
UID:11543-1672686900-1672686900@sankt-bernard.ansgar-portal.de
SUMMARY:Rosenkranzandacht
DESCRIPTION:
URL:https://sankt-bernard.ansgar-portal.de/event/rosenkranzandacht-80/
CATEGORIES:Veranstaltung
END:VEVENT
BEGIN:VEVENT
DTSTART;TZID=Europe/Berlin:20230103T191500
DTEND;TZID=Europe/Berlin:20230103T191500
DTSTAMP:20260420T015453
CREATED:20221204T223642Z
LAST-MODIFIED:20221204T223642Z
UID:11546-1672773300-1672773300@sankt-bernard.ansgar-portal.de
SUMMARY:Hl. Messe - Pater Kiefer
DESCRIPTION:
URL:https://sankt-bernard.ansgar-portal.de/event/hl-messe-pater-kiefer-22/
CATEGORIES:Gottesdienst
END:VEVENT
BEGIN:VEVENT
DTSTART;TZID=Europe/Berlin:20230106T080000
DTEND;TZID=Europe/Berlin:20230106T083000
DTSTAMP:20260420T015453
CREATED:20221204T223718Z
LAST-MODIFIED:20221204T223718Z
UID:11549-1672992000-1672993800@sankt-bernard.ansgar-portal.de
SUMMARY:Hl. Messe - Pater Paul
DESCRIPTION:
URL:https://sankt-bernard.ansgar-portal.de/event/hl-messe-pater-paul-12/
CATEGORIES:Gottesdienst
END:VEVENT
BEGIN:VEVENT
DTSTART;TZID=Europe/Berlin:20230107T163000
DTEND;TZID=Europe/Berlin:20230107T163000
DTSTAMP:20260420T015453
CREATED:20221204T223806Z
LAST-MODIFIED:20221204T223806Z
UID:11552-1673109000-1673109000@sankt-bernard.ansgar-portal.de
SUMMARY:Beichtgelegenheit - Pater Geißler
DESCRIPTION:
URL:https://sankt-bernard.ansgar-portal.de/event/beichtgelegenheit-pater-geissler-15/
CATEGORIES:Veranstaltung
END:VEVENT
BEGIN:VEVENT
DTSTART;TZID=Europe/Berlin:20230107T170000
DTEND;TZID=Europe/Berlin:20230107T170000
DTSTAMP:20260420T015453
CREATED:20221204T223849Z
LAST-MODIFIED:20221204T223849Z
UID:11554-1673110800-1673110800@sankt-bernard.ansgar-portal.de
SUMMARY:Vorabendmesse - Pater Geißler
DESCRIPTION:
URL:https://sankt-bernard.ansgar-portal.de/event/vorabendmesse-pater-geissler-14/
CATEGORIES:Gottesdienst
END:VEVENT
BEGIN:VEVENT
DTSTART;TZID=Europe/Berlin:20230108T111500
DTEND;TZID=Europe/Berlin:20230108T111500
DTSTAMP:20260420T015453
CREATED:20221204T223941Z
LAST-MODIFIED:20221204T223941Z
UID:11556-1673176500-1673176500@sankt-bernard.ansgar-portal.de
SUMMARY:Hl. Messe mit Aussendung der Sternsinger - Pater Geißler
DESCRIPTION:
URL:https://sankt-bernard.ansgar-portal.de/event/hl-messe-mit-aussendung-der-sternsinger-pater-geissler/
CATEGORIES:Gottesdienst
END:VEVENT
BEGIN:VEVENT
DTSTART;TZID=Europe/Berlin:20230114T163000
DTEND;TZID=Europe/Berlin:20230114T163000
DTSTAMP:20260420T015453
CREATED:20230114T142345Z
LAST-MODIFIED:20230114T142345Z
UID:11728-1673713800-1673713800@sankt-bernard.ansgar-portal.de
SUMMARY:Beichtgelegenheit - Pater Paul
DESCRIPTION:
URL:https://sankt-bernard.ansgar-portal.de/event/beichtgelegenheit-pater-paul-5/
CATEGORIES:Veranstaltung
END:VEVENT
BEGIN:VEVENT
DTSTART;TZID=Europe/Berlin:20230114T170000
DTEND;TZID=Europe/Berlin:20230114T170000
DTSTAMP:20260420T015453
CREATED:20230114T142525Z
LAST-MODIFIED:20230114T142525Z
UID:11730-1673715600-1673715600@sankt-bernard.ansgar-portal.de
SUMMARY:Vorabendmesse - Pater Paul
DESCRIPTION:
URL:https://sankt-bernard.ansgar-portal.de/event/vorabendmesse-pater-paul-6/
CATEGORIES:Gottesdienst
END:VEVENT
BEGIN:VEVENT
DTSTART;TZID=Europe/Berlin:20230115T111500
DTEND;TZID=Europe/Berlin:20230115T111500
DTSTAMP:20260420T015453
CREATED:20230114T142616Z
LAST-MODIFIED:20230114T142616Z
UID:11732-1673781300-1673781300@sankt-bernard.ansgar-portal.de
SUMMARY:Hl. Messe - Pater Kiefer
DESCRIPTION:
URL:https://sankt-bernard.ansgar-portal.de/event/hl-messe-pater-kiefer-23/
CATEGORIES:Gottesdienst
END:VEVENT
BEGIN:VEVENT
DTSTART;TZID=Europe/Berlin:20230115T180000
DTEND;TZID=Europe/Berlin:20230115T180000
DTSTAMP:20260420T015453
CREATED:20230113T234834Z
LAST-MODIFIED:20230113T234834Z
UID:11725-1673805600-1673805600@sankt-bernard.ansgar-portal.de
SUMMARY:Taizé-Andacht
DESCRIPTION:
URL:https://sankt-bernard.ansgar-portal.de/event/taize-andacht-19/
END:VEVENT
BEGIN:VEVENT
DTSTART;TZID=Europe/Berlin:20230116T191500
DTEND;TZID=Europe/Berlin:20230116T191500
DTSTAMP:20260420T015453
CREATED:20230114T142719Z
LAST-MODIFIED:20230114T142719Z
UID:11734-1673896500-1673896500@sankt-bernard.ansgar-portal.de
SUMMARY:Rosenkranzandacht
DESCRIPTION:
URL:https://sankt-bernard.ansgar-portal.de/event/rosenkranzandacht-81/
CATEGORIES:Veranstaltung
END:VEVENT
BEGIN:VEVENT
DTSTART;TZID=Europe/Berlin:20230117T191500
DTEND;TZID=Europe/Berlin:20230117T191500
DTSTAMP:20260420T015453
CREATED:20230114T142807Z
LAST-MODIFIED:20230114T142807Z
UID:11736-1673982900-1673982900@sankt-bernard.ansgar-portal.de
SUMMARY:Wort-Gottes-Feier
DESCRIPTION:
URL:https://sankt-bernard.ansgar-portal.de/event/wort-gottes-feier-21/
CATEGORIES:Gottesdienst
END:VEVENT
BEGIN:VEVENT
DTSTART;TZID=Europe/Berlin:20230119T150000
DTEND;TZID=Europe/Berlin:20230119T150000
DTSTAMP:20260420T015453
CREATED:20230114T142904Z
LAST-MODIFIED:20230114T142904Z
UID:11738-1674140400-1674140400@sankt-bernard.ansgar-portal.de
SUMMARY:Seniorenmesse - Pater Hammer
DESCRIPTION:
URL:https://sankt-bernard.ansgar-portal.de/event/seniorenmesse-pater-hammer-7/
CATEGORIES:Gottesdienst
END:VEVENT
BEGIN:VEVENT
DTSTART;TZID=Europe/Berlin:20230120T083000
DTEND;TZID=Europe/Berlin:20230120T083000
DTSTAMP:20260420T015453
CREATED:20230114T142950Z
LAST-MODIFIED:20230114T142950Z
UID:11740-1674203400-1674203400@sankt-bernard.ansgar-portal.de
SUMMARY:Hl. Messe - Pater Kiefer
DESCRIPTION:
URL:https://sankt-bernard.ansgar-portal.de/event/hl-messe-pater-kiefer-24/
CATEGORIES:Gottesdienst
END:VEVENT
BEGIN:VEVENT
DTSTART;TZID=Europe/Berlin:20230121T163000
DTEND;TZID=Europe/Berlin:20230121T163000
DTSTAMP:20260420T015453
CREATED:20230114T143210Z
LAST-MODIFIED:20230114T143210Z
UID:11742-1674318600-1674318600@sankt-bernard.ansgar-portal.de
SUMMARY:Beichtgelegenheit ENTFÄLLT
DESCRIPTION:
URL:https://sankt-bernard.ansgar-portal.de/event/beichtgelegenheit-entfaellt-24/
CATEGORIES:Veranstaltung
END:VEVENT
BEGIN:VEVENT
DTSTART;TZID=Europe/Berlin:20230121T170000
DTEND;TZID=Europe/Berlin:20230121T170000
DTSTAMP:20260420T015453
CREATED:20230114T143459Z
LAST-MODIFIED:20230114T143459Z
UID:11744-1674320400-1674320400@sankt-bernard.ansgar-portal.de
SUMMARY:Wort-Gottes-Feier
DESCRIPTION:
URL:https://sankt-bernard.ansgar-portal.de/event/wort-gottes-feier-22/
CATEGORIES:Gottesdienst
END:VEVENT
BEGIN:VEVENT
DTSTART;TZID=Europe/Berlin:20230122T111500
DTEND;TZID=Europe/Berlin:20230122T111500
DTSTAMP:20260420T015453
CREATED:20230114T143559Z
LAST-MODIFIED:20230114T143559Z
UID:11746-1674386100-1674386100@sankt-bernard.ansgar-portal.de
SUMMARY:Hl. Messe für die Pfarrgemeinde - Pater Hammer
DESCRIPTION:
URL:https://sankt-bernard.ansgar-portal.de/event/hl-messe-fuer-die-pfarrgemeinde-pater-hammer/
CATEGORIES:Gottesdienst
END:VEVENT
BEGIN:VEVENT
DTSTART;TZID=Europe/Berlin:20230123T191500
DTEND;TZID=Europe/Berlin:20230123T191500
DTSTAMP:20260420T015453
CREATED:20230114T143701Z
LAST-MODIFIED:20230114T143701Z
UID:11748-1674501300-1674501300@sankt-bernard.ansgar-portal.de
SUMMARY:Rosenkranzandacht
DESCRIPTION:
URL:https://sankt-bernard.ansgar-portal.de/event/rosenkranzandacht-82/
CATEGORIES:Veranstaltung
END:VEVENT
BEGIN:VEVENT
DTSTART;TZID=Europe/Berlin:20230124T191500
DTEND;TZID=Europe/Berlin:20230124T191500
DTSTAMP:20260420T015453
CREATED:20230114T143752Z
LAST-MODIFIED:20230114T143752Z
UID:11750-1674587700-1674587700@sankt-bernard.ansgar-portal.de
SUMMARY:Hl. Messe - Pater Geißler
DESCRIPTION:
URL:https://sankt-bernard.ansgar-portal.de/event/hl-messe-pater-geissler-70/
CATEGORIES:Gottesdienst
END:VEVENT
BEGIN:VEVENT
DTSTART;TZID=Europe/Berlin:20230125T193000
DTEND;TZID=Europe/Berlin:20230125T193000
DTSTAMP:20260420T015453
CREATED:20230117T205209Z
LAST-MODIFIED:20230117T205209Z
UID:11805-1674675000-1674675000@sankt-bernard.ansgar-portal.de
SUMMARY:Gemeindekonferenz
DESCRIPTION:
URL:https://sankt-bernard.ansgar-portal.de/event/gemeindekonferenz-11/
END:VEVENT
BEGIN:VEVENT
DTSTART;TZID=Europe/Berlin:20230127T083000
DTEND;TZID=Europe/Berlin:20230127T083000
DTSTAMP:20260420T015453
CREATED:20230114T143857Z
LAST-MODIFIED:20230114T143857Z
UID:11752-1674808200-1674808200@sankt-bernard.ansgar-portal.de
SUMMARY:Hl. Messe - Pater Paul
DESCRIPTION:
URL:https://sankt-bernard.ansgar-portal.de/event/hl-messe-pater-paul-13/
CATEGORIES:Gottesdienst
END:VEVENT
BEGIN:VEVENT
DTSTART;TZID=Europe/Berlin:20230128T163000
DTEND;TZID=Europe/Berlin:20230128T163000
DTSTAMP:20260420T015453
CREATED:20230114T144017Z
LAST-MODIFIED:20230114T144017Z
UID:11754-1674923400-1674923400@sankt-bernard.ansgar-portal.de
SUMMARY:Beichtgelegentheit - Pater Hammer
DESCRIPTION:
URL:https://sankt-bernard.ansgar-portal.de/event/beichtgelegentheit-pater-hammer/
CATEGORIES:Veranstaltung
END:VEVENT
BEGIN:VEVENT
DTSTART;TZID=Europe/Berlin:20230128T170000
DTEND;TZID=Europe/Berlin:20230128T170000
DTSTAMP:20260420T015453
CREATED:20230114T144112Z
LAST-MODIFIED:20230114T144112Z
UID:11756-1674925200-1674925200@sankt-bernard.ansgar-portal.de
SUMMARY:Vorabendmesse - Pater Hammer
DESCRIPTION:
URL:https://sankt-bernard.ansgar-portal.de/event/vorabendmesse-pater-hammer-15/
CATEGORIES:Gottesdienst
END:VEVENT
BEGIN:VEVENT
DTSTART;TZID=Europe/Berlin:20230129T111500
DTEND;TZID=Europe/Berlin:20230129T111500
DTSTAMP:20260420T015453
CREATED:20230114T144215Z
LAST-MODIFIED:20230114T144215Z
UID:11758-1674990900-1674990900@sankt-bernard.ansgar-portal.de
SUMMARY:Hl. Messe - Pater Kiefer
DESCRIPTION:
URL:https://sankt-bernard.ansgar-portal.de/event/hl-messe-pater-kiefer-25/
CATEGORIES:Gottesdienst
END:VEVENT
BEGIN:VEVENT
DTSTART;TZID=Europe/Berlin:20230130T191500
DTEND;TZID=Europe/Berlin:20230130T191500
DTSTAMP:20260420T015453
CREATED:20230114T144327Z
LAST-MODIFIED:20230114T144327Z
UID:11760-1675106100-1675106100@sankt-bernard.ansgar-portal.de
SUMMARY:Rosenkranzandacht
DESCRIPTION:
URL:https://sankt-bernard.ansgar-portal.de/event/rosenkranzandacht-83/
CATEGORIES:Veranstaltung
END:VEVENT
BEGIN:VEVENT
DTSTART;TZID=Europe/Berlin:20230131T191500
DTEND;TZID=Europe/Berlin:20230131T191500
DTSTAMP:20260420T015453
CREATED:20230114T144720Z
LAST-MODIFIED:20230114T144720Z
UID:11762-1675192500-1675192500@sankt-bernard.ansgar-portal.de
SUMMARY:Hl. Messe - Pater Geißler
DESCRIPTION:
URL:https://sankt-bernard.ansgar-portal.de/event/hl-messe-pater-geissler-71/
CATEGORIES:Gottesdienst
END:VEVENT
END:VCALENDAR