BEGIN:VCALENDAR
VERSION:2.0
PRODID:-//Katholische Gemeinde Sankt Bernard Poppenbüttel - ECPv6.15.17.1//NONSGML v1.0//EN
CALSCALE:GREGORIAN
METHOD:PUBLISH
X-ORIGINAL-URL:https://sankt-bernard.ansgar-portal.de
X-WR-CALDESC:Veranstaltungen für Katholische Gemeinde Sankt Bernard Poppenbüttel
REFRESH-INTERVAL;VALUE=DURATION:PT1H
X-Robots-Tag:noindex
X-PUBLISHED-TTL:PT1H
BEGIN:VTIMEZONE
TZID:Europe/Berlin
BEGIN:DAYLIGHT
TZOFFSETFROM:+0100
TZOFFSETTO:+0200
TZNAME:CEST
DTSTART:20210328T010000
END:DAYLIGHT
BEGIN:STANDARD
TZOFFSETFROM:+0200
TZOFFSETTO:+0100
TZNAME:CET
DTSTART:20211031T010000
END:STANDARD
BEGIN:DAYLIGHT
TZOFFSETFROM:+0100
TZOFFSETTO:+0200
TZNAME:CEST
DTSTART:20220327T010000
END:DAYLIGHT
BEGIN:STANDARD
TZOFFSETFROM:+0200
TZOFFSETTO:+0100
TZNAME:CET
DTSTART:20221030T010000
END:STANDARD
BEGIN:DAYLIGHT
TZOFFSETFROM:+0100
TZOFFSETTO:+0200
TZNAME:CEST
DTSTART:20230326T010000
END:DAYLIGHT
BEGIN:STANDARD
TZOFFSETFROM:+0200
TZOFFSETTO:+0100
TZNAME:CET
DTSTART:20231029T010000
END:STANDARD
END:VTIMEZONE
BEGIN:VEVENT
DTSTART;TZID=Europe/Berlin:20221001T173000
DTEND;TZID=Europe/Berlin:20221001T173000
DTSTAMP:20260423T121453
CREATED:20220910T211143Z
LAST-MODIFIED:20220910T211143Z
UID:11187-1664645400-1664645400@sankt-bernard.ansgar-portal.de
SUMMARY:Beichtgelegenheit - Pater Geißler
DESCRIPTION:
URL:https://sankt-bernard.ansgar-portal.de/event/beichtgelegenheit-pater-geissler-13/
CATEGORIES:Veranstaltung
END:VEVENT
BEGIN:VEVENT
DTSTART;TZID=Europe/Berlin:20221001T180000
DTEND;TZID=Europe/Berlin:20221001T180000
DTSTAMP:20260423T121453
CREATED:20220910T211227Z
LAST-MODIFIED:20220910T211227Z
UID:11189-1664647200-1664647200@sankt-bernard.ansgar-portal.de
SUMMARY:Vorabendmesse - Pater Geißler
DESCRIPTION:
URL:https://sankt-bernard.ansgar-portal.de/event/vorabendmesse-pater-geissler-12/
CATEGORIES:Gottesdienst
END:VEVENT
BEGIN:VEVENT
DTSTART;TZID=Europe/Berlin:20221002T111500
DTEND;TZID=Europe/Berlin:20221002T111500
DTSTAMP:20260423T121453
CREATED:20220910T211314Z
LAST-MODIFIED:20221001T232549Z
UID:11191-1664709300-1664709300@sankt-bernard.ansgar-portal.de
SUMMARY:Hl. Messe - Pater Kiefer: Erntedank mit Kita
DESCRIPTION: 
URL:https://sankt-bernard.ansgar-portal.de/event/hl-messe-pater-kiefer-17/
CATEGORIES:Gottesdienst
END:VEVENT
BEGIN:VEVENT
DTSTART;TZID=Europe/Berlin:20221002T160000
DTEND;TZID=Europe/Berlin:20221002T160000
DTSTAMP:20260423T121453
CREATED:20220910T211347Z
LAST-MODIFIED:20220910T211347Z
UID:11193-1664726400-1664726400@sankt-bernard.ansgar-portal.de
SUMMARY:Andacht in ungarischer Sprache
DESCRIPTION:
URL:https://sankt-bernard.ansgar-portal.de/event/andacht-in-ungarischer-sprache-10/
CATEGORIES:Gottesdienst
END:VEVENT
BEGIN:VEVENT
DTSTART;TZID=Europe/Berlin:20221003T191500
DTEND;TZID=Europe/Berlin:20221003T191500
DTSTAMP:20260423T121453
CREATED:20221001T112610Z
LAST-MODIFIED:20221001T112610Z
UID:11243-1664824500-1664824500@sankt-bernard.ansgar-portal.de
SUMMARY:Rosenkranzandacht
DESCRIPTION:
URL:https://sankt-bernard.ansgar-portal.de/event/rosenkranzandacht-69/
CATEGORIES:Veranstaltung
END:VEVENT
BEGIN:VEVENT
DTSTART;TZID=Europe/Berlin:20221004T191500
DTEND;TZID=Europe/Berlin:20221004T191500
DTSTAMP:20260423T121453
CREATED:20221001T112704Z
LAST-MODIFIED:20221001T112704Z
UID:11245-1664910900-1664910900@sankt-bernard.ansgar-portal.de
SUMMARY:Hl. Messe - Pater Kiefer
DESCRIPTION:
URL:https://sankt-bernard.ansgar-portal.de/event/hl-messe-pater-kiefer-18/
CATEGORIES:Gottesdienst
END:VEVENT
BEGIN:VEVENT
DTSTART;TZID=Europe/Berlin:20221007T083000
DTEND;TZID=Europe/Berlin:20221007T083000
DTSTAMP:20260423T121453
CREATED:20221001T112749Z
LAST-MODIFIED:20221001T112749Z
UID:11248-1665131400-1665131400@sankt-bernard.ansgar-portal.de
SUMMARY:Hl. Messe - Pater Hammer
DESCRIPTION:
URL:https://sankt-bernard.ansgar-portal.de/event/hl-messe-pater-hammer-69/
CATEGORIES:Gottesdienst
END:VEVENT
BEGIN:VEVENT
DTSTART;TZID=Europe/Berlin:20221008T173000
DTEND;TZID=Europe/Berlin:20221008T173000
DTSTAMP:20260423T121453
CREATED:20221001T112937Z
LAST-MODIFIED:20221001T112937Z
UID:11250-1665250200-1665250200@sankt-bernard.ansgar-portal.de
SUMMARY:Beichtgelegenheit ENTFÄLLT!
DESCRIPTION:
URL:https://sankt-bernard.ansgar-portal.de/event/beichtgelegenheit-entfaellt-21/
CATEGORIES:Veranstaltung
END:VEVENT
BEGIN:VEVENT
DTSTART;TZID=Europe/Berlin:20221008T180000
DTEND;TZID=Europe/Berlin:20221008T180000
DTSTAMP:20260423T121453
CREATED:20221001T113032Z
LAST-MODIFIED:20221001T113032Z
UID:11252-1665252000-1665252000@sankt-bernard.ansgar-portal.de
SUMMARY:Wort-Gottes-Feier
DESCRIPTION:
URL:https://sankt-bernard.ansgar-portal.de/event/wort-gottes-feier-19/
CATEGORIES:Gottesdienst
END:VEVENT
BEGIN:VEVENT
DTSTART;TZID=Europe/Berlin:20221011T191500
DTEND;TZID=Europe/Berlin:20221011T191500
DTSTAMP:20260423T121453
CREATED:20221001T114115Z
LAST-MODIFIED:20221001T114115Z
UID:11258-1665515700-1665515700@sankt-bernard.ansgar-portal.de
SUMMARY:Hl. Messe - Pater Michael
DESCRIPTION:
URL:https://sankt-bernard.ansgar-portal.de/event/hl-messe-pater-michael-2/
CATEGORIES:Gottesdienst
END:VEVENT
BEGIN:VEVENT
DTSTART;TZID=Europe/Berlin:20221014T083000
DTEND;TZID=Europe/Berlin:20221014T083000
DTSTAMP:20260423T121453
CREATED:20221001T114153Z
LAST-MODIFIED:20221001T114153Z
UID:11260-1665736200-1665736200@sankt-bernard.ansgar-portal.de
SUMMARY:Hl. Messe - Pater Michael
DESCRIPTION:
URL:https://sankt-bernard.ansgar-portal.de/event/hl-messe-pater-michael-3/
CATEGORIES:Gottesdienst
END:VEVENT
BEGIN:VEVENT
DTSTART;TZID=Europe/Berlin:20221015T173000
DTEND;TZID=Europe/Berlin:20221015T173000
DTSTAMP:20260423T121453
CREATED:20221001T114241Z
LAST-MODIFIED:20221001T114241Z
UID:11262-1665855000-1665855000@sankt-bernard.ansgar-portal.de
SUMMARY:Beichtgelegenheit - Pater Michael
DESCRIPTION:
URL:https://sankt-bernard.ansgar-portal.de/event/beichtgelegenheit-pater-michael/
CATEGORIES:Veranstaltung
END:VEVENT
BEGIN:VEVENT
DTSTART;TZID=Europe/Berlin:20221015T180000
DTEND;TZID=Europe/Berlin:20221015T180000
DTSTAMP:20260423T121453
CREATED:20221001T160257Z
LAST-MODIFIED:20221001T160257Z
UID:11264-1665856800-1665856800@sankt-bernard.ansgar-portal.de
SUMMARY:Vorabendmesse - Pater Paul
DESCRIPTION:
URL:https://sankt-bernard.ansgar-portal.de/event/vorabendmesse-pater-paul/
CATEGORIES:Gottesdienst
END:VEVENT
BEGIN:VEVENT
DTSTART;TZID=Europe/Berlin:20221016T111500
DTEND;TZID=Europe/Berlin:20221016T111500
DTSTAMP:20260423T121453
CREATED:20221001T160401Z
LAST-MODIFIED:20221001T160401Z
UID:11272-1665918900-1665918900@sankt-bernard.ansgar-portal.de
SUMMARY:Hl. Messe - Pater Zephyrin
DESCRIPTION:
URL:https://sankt-bernard.ansgar-portal.de/event/hl-messe-pater-zephyrin-92/
CATEGORIES:Gottesdienst
END:VEVENT
BEGIN:VEVENT
DTSTART;TZID=Europe/Berlin:20221017T191500
DTEND;TZID=Europe/Berlin:20221017T191500
DTSTAMP:20260423T121453
CREATED:20221001T113802Z
LAST-MODIFIED:20221001T113802Z
UID:11256-1666034100-1666034100@sankt-bernard.ansgar-portal.de
SUMMARY:Rosenkranzandacht
DESCRIPTION:
URL:https://sankt-bernard.ansgar-portal.de/event/rosenkranzandacht-70/
CATEGORIES:Veranstaltung
END:VEVENT
BEGIN:VEVENT
DTSTART;TZID=Europe/Berlin:20221017T191500
DTEND;TZID=Europe/Berlin:20221017T191500
DTSTAMP:20260423T121453
CREATED:20221001T160433Z
LAST-MODIFIED:20221001T160433Z
UID:11275-1666034100-1666034100@sankt-bernard.ansgar-portal.de
SUMMARY:Rosenkranzandacht
DESCRIPTION:
URL:https://sankt-bernard.ansgar-portal.de/event/rosenkranzandacht-71/
CATEGORIES:Veranstaltung
END:VEVENT
BEGIN:VEVENT
DTSTART;TZID=Europe/Berlin:20221018T191500
DTEND;TZID=Europe/Berlin:20221018T191500
DTSTAMP:20260423T121453
CREATED:20221001T160520Z
LAST-MODIFIED:20221001T160520Z
UID:11277-1666120500-1666120500@sankt-bernard.ansgar-portal.de
SUMMARY:Hl. Messe - Pater Paul
DESCRIPTION:
URL:https://sankt-bernard.ansgar-portal.de/event/hl-messe-pater-paul/
CATEGORIES:Gottesdienst
END:VEVENT
BEGIN:VEVENT
DTSTART;TZID=Europe/Berlin:20221020T150000
DTEND;TZID=Europe/Berlin:20221020T150000
DTSTAMP:20260423T121453
CREATED:20221001T160626Z
LAST-MODIFIED:20221001T160626Z
UID:11280-1666278000-1666278000@sankt-bernard.ansgar-portal.de
SUMMARY:Wort-Gottes-Feier für Senioren
DESCRIPTION:
URL:https://sankt-bernard.ansgar-portal.de/event/wort-gottes-feier-fuer-senioren-2/
CATEGORIES:Gottesdienst
END:VEVENT
BEGIN:VEVENT
DTSTART;TZID=Europe/Berlin:20221021T083000
DTEND;TZID=Europe/Berlin:20221021T083000
DTSTAMP:20260423T121453
CREATED:20221001T160708Z
LAST-MODIFIED:20221001T160708Z
UID:11282-1666341000-1666341000@sankt-bernard.ansgar-portal.de
SUMMARY:Hl. Messe - Pater Zephyrin
DESCRIPTION:
URL:https://sankt-bernard.ansgar-portal.de/event/hl-messe-pater-zephyrin-93/
CATEGORIES:Gottesdienst
END:VEVENT
BEGIN:VEVENT
DTSTART;TZID=Europe/Berlin:20221022T173000
DTEND;TZID=Europe/Berlin:20221022T173000
DTSTAMP:20260423T121453
CREATED:20221001T160809Z
LAST-MODIFIED:20221001T160809Z
UID:11285-1666459800-1666459800@sankt-bernard.ansgar-portal.de
SUMMARY:Beichtgelegenheit ENTFÄLLT!
DESCRIPTION:
URL:https://sankt-bernard.ansgar-portal.de/event/beichtgelegenheit-entfaellt-22/
CATEGORIES:Veranstaltung
END:VEVENT
BEGIN:VEVENT
DTSTART;TZID=Europe/Berlin:20221022T180000
DTEND;TZID=Europe/Berlin:20221022T180000
DTSTAMP:20260423T121453
CREATED:20221001T161034Z
LAST-MODIFIED:20221001T161034Z
UID:11287-1666461600-1666461600@sankt-bernard.ansgar-portal.de
SUMMARY:Wort-Gottes-Feier
DESCRIPTION:
URL:https://sankt-bernard.ansgar-portal.de/event/wort-gottes-feier-20/
CATEGORIES:Gottesdienst
END:VEVENT
BEGIN:VEVENT
DTSTART;TZID=Europe/Berlin:20221023T111500
DTEND;TZID=Europe/Berlin:20221023T111500
DTSTAMP:20260423T121453
CREATED:20221001T161137Z
LAST-MODIFIED:20221001T161137Z
UID:11290-1666523700-1666523700@sankt-bernard.ansgar-portal.de
SUMMARY:Hl. Messe - Pater Hammer
DESCRIPTION:
URL:https://sankt-bernard.ansgar-portal.de/event/hl-messe-pater-hammer-70/
CATEGORIES:Gottesdienst
END:VEVENT
BEGIN:VEVENT
DTSTART;TZID=Europe/Berlin:20221023T150000
DTEND;TZID=Europe/Berlin:20221023T150000
DTSTAMP:20260423T121453
CREATED:20221021T170722Z
LAST-MODIFIED:20221021T170722Z
UID:11358-1666537200-1666537200@sankt-bernard.ansgar-portal.de
SUMMARY:Café Sankt Bernard
DESCRIPTION:
URL:https://sankt-bernard.ansgar-portal.de/event/cafe-sankt-bernard-2/
CATEGORIES:Veranstaltung
END:VEVENT
BEGIN:VEVENT
DTSTART;TZID=Europe/Berlin:20221024T083000
DTEND;TZID=Europe/Berlin:20221024T093000
DTSTAMP:20260423T121453
CREATED:20221012T103309Z
LAST-MODIFIED:20221012T103309Z
UID:11330-1666600200-1666603800@sankt-bernard.ansgar-portal.de
SUMMARY:Sammlung für Sozialkaufhaus
DESCRIPTION:
URL:https://sankt-bernard.ansgar-portal.de/event/sammlung-fuer-sozialkaufhaus/
LOCATION:Gemeindebüro
END:VEVENT
BEGIN:VEVENT
DTSTART;TZID=Europe/Berlin:20221024T191500
DTEND;TZID=Europe/Berlin:20221024T191500
DTSTAMP:20260423T121453
CREATED:20221001T161209Z
LAST-MODIFIED:20221001T161209Z
UID:11293-1666638900-1666638900@sankt-bernard.ansgar-portal.de
SUMMARY:Rosenkranzandacht
DESCRIPTION:
URL:https://sankt-bernard.ansgar-portal.de/event/rosenkranzandacht-72/
CATEGORIES:Veranstaltung
END:VEVENT
BEGIN:VEVENT
DTSTART;TZID=Europe/Berlin:20221025T191500
DTEND;TZID=Europe/Berlin:20221025T191500
DTSTAMP:20260423T121453
CREATED:20221001T161313Z
LAST-MODIFIED:20221001T161313Z
UID:11295-1666725300-1666725300@sankt-bernard.ansgar-portal.de
SUMMARY:Hl. Messe - Pater Zephyrin
DESCRIPTION:
URL:https://sankt-bernard.ansgar-portal.de/event/hl-messe-pater-zephyrin-94/
CATEGORIES:Gottesdienst
END:VEVENT
BEGIN:VEVENT
DTSTART;TZID=Europe/Berlin:20221028T083000
DTEND;TZID=Europe/Berlin:20221028T083000
DTSTAMP:20260423T121453
CREATED:20221001T161357Z
LAST-MODIFIED:20221001T161357Z
UID:11297-1666945800-1666945800@sankt-bernard.ansgar-portal.de
SUMMARY:Hl. Messe - Pater Hammer
DESCRIPTION:
URL:https://sankt-bernard.ansgar-portal.de/event/hl-messe-pater-hammer-71/
CATEGORIES:Gottesdienst
END:VEVENT
BEGIN:VEVENT
DTSTART;TZID=Europe/Berlin:20221029T173000
DTEND;TZID=Europe/Berlin:20221029T173000
DTSTAMP:20260423T121453
CREATED:20221001T161441Z
LAST-MODIFIED:20221001T161441Z
UID:11299-1667064600-1667064600@sankt-bernard.ansgar-portal.de
SUMMARY:Beichtgelegenheit - Pater Paul
DESCRIPTION:
URL:https://sankt-bernard.ansgar-portal.de/event/beichtgelegenheit-pater-paul/
CATEGORIES:Veranstaltung
END:VEVENT
BEGIN:VEVENT
DTSTART;TZID=Europe/Berlin:20221029T180000
DTEND;TZID=Europe/Berlin:20221029T180000
DTSTAMP:20260423T121453
CREATED:20221001T161509Z
LAST-MODIFIED:20221001T161509Z
UID:11302-1667066400-1667066400@sankt-bernard.ansgar-portal.de
SUMMARY:Vorabendmesse - Pater Paul
DESCRIPTION:
URL:https://sankt-bernard.ansgar-portal.de/event/vorabendmesse-pater-paul-2/
CATEGORIES:Gottesdienst
END:VEVENT
BEGIN:VEVENT
DTSTART;TZID=Europe/Berlin:20221030T111500
DTEND;TZID=Europe/Berlin:20221030T111500
DTSTAMP:20260423T121453
CREATED:20221001T161604Z
LAST-MODIFIED:20221001T161604Z
UID:11305-1667128500-1667128500@sankt-bernard.ansgar-portal.de
SUMMARY:Hl. Messe - Pater Geißler
DESCRIPTION:
URL:https://sankt-bernard.ansgar-portal.de/event/hl-messe-pater-geissler-67/
CATEGORIES:Gottesdienst
END:VEVENT
END:VCALENDAR