BEGIN:VCALENDAR
VERSION:2.0
PRODID:-//Katholische Gemeinde Sankt Bernard Poppenbüttel - ECPv6.15.17.1//NONSGML v1.0//EN
CALSCALE:GREGORIAN
METHOD:PUBLISH
X-WR-CALNAME:Katholische Gemeinde Sankt Bernard Poppenbüttel
X-ORIGINAL-URL:https://sankt-bernard.ansgar-portal.de
X-WR-CALDESC:Veranstaltungen für Katholische Gemeinde Sankt Bernard Poppenbüttel
REFRESH-INTERVAL;VALUE=DURATION:PT1H
X-Robots-Tag:noindex
X-PUBLISHED-TTL:PT1H
BEGIN:VTIMEZONE
TZID:Europe/Berlin
BEGIN:DAYLIGHT
TZOFFSETFROM:+0100
TZOFFSETTO:+0200
TZNAME:CEST
DTSTART:20210328T010000
END:DAYLIGHT
BEGIN:STANDARD
TZOFFSETFROM:+0200
TZOFFSETTO:+0100
TZNAME:CET
DTSTART:20211031T010000
END:STANDARD
BEGIN:DAYLIGHT
TZOFFSETFROM:+0100
TZOFFSETTO:+0200
TZNAME:CEST
DTSTART:20220327T010000
END:DAYLIGHT
BEGIN:STANDARD
TZOFFSETFROM:+0200
TZOFFSETTO:+0100
TZNAME:CET
DTSTART:20221030T010000
END:STANDARD
BEGIN:DAYLIGHT
TZOFFSETFROM:+0100
TZOFFSETTO:+0200
TZNAME:CEST
DTSTART:20230326T010000
END:DAYLIGHT
BEGIN:STANDARD
TZOFFSETFROM:+0200
TZOFFSETTO:+0100
TZNAME:CET
DTSTART:20231029T010000
END:STANDARD
END:VTIMEZONE
BEGIN:VEVENT
DTSTART;TZID=Europe/Berlin:20220101T111500
DTEND;TZID=Europe/Berlin:20220101T111500
DTSTAMP:20260419T194331
CREATED:20211219T190633Z
LAST-MODIFIED:20211219T190633Z
UID:10180-1641035700-1641035700@sankt-bernard.ansgar-portal.de
SUMMARY:Hl. Messe zu Neujahr - Pater Geißler
DESCRIPTION:
URL:https://sankt-bernard.ansgar-portal.de/event/hl-messe-zu-neujahr-pater-geissler-2/
CATEGORIES:Gottesdienst
END:VEVENT
BEGIN:VEVENT
DTSTART;TZID=Europe/Berlin:20220102T111500
DTEND;TZID=Europe/Berlin:20220102T111500
DTSTAMP:20260419T194331
CREATED:20211219T190716Z
LAST-MODIFIED:20211219T190716Z
UID:10182-1641122100-1641122100@sankt-bernard.ansgar-portal.de
SUMMARY:Hl. Messe (Pfr. i. R. Wichert)
DESCRIPTION:
URL:https://sankt-bernard.ansgar-portal.de/event/hl-messe-pfr-i-r-wichert/
CATEGORIES:Gottesdienst
END:VEVENT
BEGIN:VEVENT
DTSTART;TZID=Europe/Berlin:20220103T191500
DTEND;TZID=Europe/Berlin:20220103T191500
DTSTAMP:20260419T194331
CREATED:20211219T190745Z
LAST-MODIFIED:20211219T190745Z
UID:10184-1641237300-1641237300@sankt-bernard.ansgar-portal.de
SUMMARY:Rosenkranzandacht
DESCRIPTION:
URL:https://sankt-bernard.ansgar-portal.de/event/rosenkranzandacht-34/
CATEGORIES:Veranstaltung
END:VEVENT
BEGIN:VEVENT
DTSTART;TZID=Europe/Berlin:20220104T191500
DTEND;TZID=Europe/Berlin:20220104T191500
DTSTAMP:20260419T194331
CREATED:20211219T190819Z
LAST-MODIFIED:20211219T190819Z
UID:10186-1641323700-1641323700@sankt-bernard.ansgar-portal.de
SUMMARY:Hl. Messe - Pater Geißler
DESCRIPTION:
URL:https://sankt-bernard.ansgar-portal.de/event/hl-messe-pater-geissler-47/
CATEGORIES:Gottesdienst
END:VEVENT
BEGIN:VEVENT
DTSTART;TZID=Europe/Berlin:20220107T083000
DTEND;TZID=Europe/Berlin:20220107T083000
DTSTAMP:20260419T194331
CREATED:20211219T190905Z
LAST-MODIFIED:20211219T190905Z
UID:10188-1641544200-1641544200@sankt-bernard.ansgar-portal.de
SUMMARY:Hl. Messe - Pater Geißler
DESCRIPTION:
URL:https://sankt-bernard.ansgar-portal.de/event/hl-messe-pater-geissler-48/
CATEGORIES:Gottesdienst
END:VEVENT
BEGIN:VEVENT
DTSTART;TZID=Europe/Berlin:20220108T173000
DTEND;TZID=Europe/Berlin:20220108T173000
DTSTAMP:20260419T194331
CREATED:20211219T191017Z
LAST-MODIFIED:20211219T191017Z
UID:10190-1641663000-1641663000@sankt-bernard.ansgar-portal.de
SUMMARY:Beichtgelegenheit (entfällt)
DESCRIPTION:
URL:https://sankt-bernard.ansgar-portal.de/event/beichtgelegenheit-entfaellt-11/
CATEGORIES:Veranstaltung
END:VEVENT
BEGIN:VEVENT
DTSTART;TZID=Europe/Berlin:20220108T180000
DTEND;TZID=Europe/Berlin:20220108T180000
DTSTAMP:20260419T194331
CREATED:20211219T191046Z
LAST-MODIFIED:20211219T191046Z
UID:10192-1641664800-1641664800@sankt-bernard.ansgar-portal.de
SUMMARY:Wort-Gottes-Feier mit GB Anke Laumayer
DESCRIPTION:
URL:https://sankt-bernard.ansgar-portal.de/event/wort-gottes-feier-mit-gb-anke-laumayer-2/
CATEGORIES:Gottesdienst
END:VEVENT
BEGIN:VEVENT
DTSTART;TZID=Europe/Berlin:20220109T111500
DTEND;TZID=Europe/Berlin:20220109T111500
DTSTAMP:20260419T194331
CREATED:20211219T191251Z
LAST-MODIFIED:20211219T191251Z
UID:10194-1641726900-1641726900@sankt-bernard.ansgar-portal.de
SUMMARY:Hl. Messe für die Pfarrgemeinde - Pater Geißler
DESCRIPTION:
URL:https://sankt-bernard.ansgar-portal.de/event/hl-messe-fuer-die-pfarrgemeinde-pater-geissler/
CATEGORIES:Gottesdienst
END:VEVENT
BEGIN:VEVENT
DTSTART;TZID=Europe/Berlin:20220110T191500
DTEND;TZID=Europe/Berlin:20220110T191500
DTSTAMP:20260419T194331
CREATED:20211219T191320Z
LAST-MODIFIED:20211219T191320Z
UID:10197-1641842100-1641842100@sankt-bernard.ansgar-portal.de
SUMMARY:Rosenkranzandacht
DESCRIPTION:
URL:https://sankt-bernard.ansgar-portal.de/event/rosenkranzandacht-35/
CATEGORIES:Veranstaltung
END:VEVENT
BEGIN:VEVENT
DTSTART;TZID=Europe/Berlin:20220111T191500
DTEND;TZID=Europe/Berlin:20220111T191500
DTSTAMP:20260419T194331
CREATED:20211219T191352Z
LAST-MODIFIED:20211219T191352Z
UID:10199-1641928500-1641928500@sankt-bernard.ansgar-portal.de
SUMMARY:Wort-Gottes-Feier mit GB Markus Gehrken
DESCRIPTION:
URL:https://sankt-bernard.ansgar-portal.de/event/wort-gottes-feier-mit-gb-markus-gehrken-3/
CATEGORIES:Gottesdienst
END:VEVENT
BEGIN:VEVENT
DTSTART;TZID=Europe/Berlin:20220114T083000
DTEND;TZID=Europe/Berlin:20220114T083000
DTSTAMP:20260419T194331
CREATED:20211219T191437Z
LAST-MODIFIED:20211219T191437Z
UID:10202-1642149000-1642149000@sankt-bernard.ansgar-portal.de
SUMMARY:Hl. Messe - Pater Hammer
DESCRIPTION:
URL:https://sankt-bernard.ansgar-portal.de/event/hl-messe-pater-hammer-41/
CATEGORIES:Gottesdienst
END:VEVENT
BEGIN:VEVENT
DTSTART;TZID=Europe/Berlin:20220115T173000
DTEND;TZID=Europe/Berlin:20220115T173000
DTSTAMP:20260419T194331
CREATED:20211219T191507Z
LAST-MODIFIED:20211219T191507Z
UID:10204-1642267800-1642267800@sankt-bernard.ansgar-portal.de
SUMMARY:Beichtgelegenheit - Pater Hammer
DESCRIPTION:
URL:https://sankt-bernard.ansgar-portal.de/event/beichtgelegenheit-pater-hammer-8/
CATEGORIES:Veranstaltung
END:VEVENT
BEGIN:VEVENT
DTSTART;TZID=Europe/Berlin:20220115T180000
DTEND;TZID=Europe/Berlin:20220115T180000
DTSTAMP:20260419T194331
CREATED:20211219T191540Z
LAST-MODIFIED:20211219T191540Z
UID:10206-1642269600-1642269600@sankt-bernard.ansgar-portal.de
SUMMARY:Vorabendmesse - Pater Hammer
DESCRIPTION:
URL:https://sankt-bernard.ansgar-portal.de/event/vorabendmesse-pater-hammer-7/
CATEGORIES:Gottesdienst
END:VEVENT
BEGIN:VEVENT
DTSTART;TZID=Europe/Berlin:20220116T111500
DTEND;TZID=Europe/Berlin:20220116T111500
DTSTAMP:20260419T194331
CREATED:20211219T191632Z
LAST-MODIFIED:20211219T191632Z
UID:10208-1642331700-1642331700@sankt-bernard.ansgar-portal.de
SUMMARY:Hl. Messe - Pater Hammer
DESCRIPTION:
URL:https://sankt-bernard.ansgar-portal.de/event/hl-messe-pater-hammer-42/
CATEGORIES:Gottesdienst
END:VEVENT
BEGIN:VEVENT
DTSTART;TZID=Europe/Berlin:20220117T191500
DTEND;TZID=Europe/Berlin:20220117T191500
DTSTAMP:20260419T194331
CREATED:20211219T191711Z
LAST-MODIFIED:20211219T191711Z
UID:10210-1642446900-1642446900@sankt-bernard.ansgar-portal.de
SUMMARY:Rosenkranzandacht
DESCRIPTION:
URL:https://sankt-bernard.ansgar-portal.de/event/rosenkranzandacht-36/
CATEGORIES:Veranstaltung
END:VEVENT
BEGIN:VEVENT
DTSTART;TZID=Europe/Berlin:20220118T191500
DTEND;TZID=Europe/Berlin:20220118T191500
DTSTAMP:20260419T194331
CREATED:20211219T191807Z
LAST-MODIFIED:20211219T191807Z
UID:10213-1642533300-1642533300@sankt-bernard.ansgar-portal.de
SUMMARY:Hl. Messe - Pater Geißler
DESCRIPTION:
URL:https://sankt-bernard.ansgar-portal.de/event/hl-messe-pater-geissler-49/
CATEGORIES:Gottesdienst
END:VEVENT
BEGIN:VEVENT
DTSTART;TZID=Europe/Berlin:20220120T150000
DTEND;TZID=Europe/Berlin:20220120T150000
DTSTAMP:20260419T194331
CREATED:20211219T191854Z
LAST-MODIFIED:20211219T191854Z
UID:10216-1642690800-1642690800@sankt-bernard.ansgar-portal.de
SUMMARY:Seniorenmesse - Pater Hammer
DESCRIPTION:
URL:https://sankt-bernard.ansgar-portal.de/event/seniorenmesse-pater-hammer-4/
CATEGORIES:Gottesdienst
END:VEVENT
BEGIN:VEVENT
DTSTART;TZID=Europe/Berlin:20220121T083000
DTEND;TZID=Europe/Berlin:20220121T083000
DTSTAMP:20260419T194331
CREATED:20211219T191924Z
LAST-MODIFIED:20211219T191924Z
UID:10219-1642753800-1642753800@sankt-bernard.ansgar-portal.de
SUMMARY:Hl. Messe - Pater Geißler
DESCRIPTION:
URL:https://sankt-bernard.ansgar-portal.de/event/hl-messe-pater-geissler-50/
CATEGORIES:Gottesdienst
END:VEVENT
BEGIN:VEVENT
DTSTART;TZID=Europe/Berlin:20220122T173000
DTEND;TZID=Europe/Berlin:20220122T173000
DTSTAMP:20260419T194331
CREATED:20211219T192000Z
LAST-MODIFIED:20211219T192000Z
UID:10222-1642872600-1642872600@sankt-bernard.ansgar-portal.de
SUMMARY:Beichtgelegenheit (entfällt)
DESCRIPTION:
URL:https://sankt-bernard.ansgar-portal.de/event/beichtgelegenheit-entfaellt-12/
CATEGORIES:Veranstaltung
END:VEVENT
BEGIN:VEVENT
DTSTART;TZID=Europe/Berlin:20220122T180000
DTEND;TZID=Europe/Berlin:20220122T180000
DTSTAMP:20260419T194331
CREATED:20211219T192024Z
LAST-MODIFIED:20211219T192024Z
UID:10224-1642874400-1642874400@sankt-bernard.ansgar-portal.de
SUMMARY:Wort-Gottes-Feier mit GB Anke Laumayer
DESCRIPTION:
URL:https://sankt-bernard.ansgar-portal.de/event/wort-gottes-feier-mit-gb-anke-laumayer-3/
CATEGORIES:Gottesdienst
END:VEVENT
BEGIN:VEVENT
DTSTART;TZID=Europe/Berlin:20220123T111500
DTEND;TZID=Europe/Berlin:20220123T111500
DTSTAMP:20260419T194331
CREATED:20211219T192059Z
LAST-MODIFIED:20211219T192059Z
UID:10226-1642936500-1642936500@sankt-bernard.ansgar-portal.de
SUMMARY:Hl. Messe - Pater Hammer
DESCRIPTION:
URL:https://sankt-bernard.ansgar-portal.de/event/hl-messe-pater-hammer-43/
CATEGORIES:Gottesdienst
END:VEVENT
BEGIN:VEVENT
DTSTART;TZID=Europe/Berlin:20220124T191500
DTEND;TZID=Europe/Berlin:20220124T191500
DTSTAMP:20260419T194331
CREATED:20211219T192135Z
LAST-MODIFIED:20211219T192135Z
UID:10228-1643051700-1643051700@sankt-bernard.ansgar-portal.de
SUMMARY:Rosenkranzandacht
DESCRIPTION:
URL:https://sankt-bernard.ansgar-portal.de/event/rosenkranzandacht-37/
CATEGORIES:Veranstaltung
END:VEVENT
BEGIN:VEVENT
DTSTART;TZID=Europe/Berlin:20220125T191500
DTEND;TZID=Europe/Berlin:20220125T191500
DTSTAMP:20260419T194331
CREATED:20211219T192208Z
LAST-MODIFIED:20211219T192208Z
UID:10230-1643138100-1643138100@sankt-bernard.ansgar-portal.de
SUMMARY:Hl. Messe - Pater Geißler
DESCRIPTION:
URL:https://sankt-bernard.ansgar-portal.de/event/hl-messe-pater-geissler-51/
CATEGORIES:Gottesdienst
END:VEVENT
BEGIN:VEVENT
DTSTART;TZID=Europe/Berlin:20220128T083000
DTEND;TZID=Europe/Berlin:20220128T083000
DTSTAMP:20260419T194331
CREATED:20211219T192256Z
LAST-MODIFIED:20211219T192256Z
UID:10232-1643358600-1643358600@sankt-bernard.ansgar-portal.de
SUMMARY:Hl. Messe - Pater Hammer
DESCRIPTION:
URL:https://sankt-bernard.ansgar-portal.de/event/hl-messe-pater-hammer-44/
CATEGORIES:Gottesdienst
END:VEVENT
BEGIN:VEVENT
DTSTART;TZID=Europe/Berlin:20220129T173000
DTEND;TZID=Europe/Berlin:20220129T173000
DTSTAMP:20260419T194331
CREATED:20211219T192328Z
LAST-MODIFIED:20211219T192328Z
UID:10234-1643477400-1643477400@sankt-bernard.ansgar-portal.de
SUMMARY:Beichtgelegenheit - Pater Hammer
DESCRIPTION:
URL:https://sankt-bernard.ansgar-portal.de/event/beichtgelegenheit-pater-hammer-9/
CATEGORIES:Veranstaltung
END:VEVENT
BEGIN:VEVENT
DTSTART;TZID=Europe/Berlin:20220129T180000
DTEND;TZID=Europe/Berlin:20220129T180000
DTSTAMP:20260419T194331
CREATED:20211219T192406Z
LAST-MODIFIED:20211219T192406Z
UID:10236-1643479200-1643479200@sankt-bernard.ansgar-portal.de
SUMMARY:Vorabendmesse - Pater Hammer
DESCRIPTION:
URL:https://sankt-bernard.ansgar-portal.de/event/vorabendmesse-pater-hammer-8/
CATEGORIES:Gottesdienst
END:VEVENT
BEGIN:VEVENT
DTSTART;TZID=Europe/Berlin:20220130T111500
DTEND;TZID=Europe/Berlin:20220130T111500
DTSTAMP:20260419T194331
CREATED:20211219T192500Z
LAST-MODIFIED:20211219T192500Z
UID:10238-1643541300-1643541300@sankt-bernard.ansgar-portal.de
SUMMARY:Hl. Messe - Pater Geißler
DESCRIPTION:
URL:https://sankt-bernard.ansgar-portal.de/event/hl-messe-pater-geissler-52/
CATEGORIES:Gottesdienst
END:VEVENT
BEGIN:VEVENT
DTSTART;TZID=Europe/Berlin:20220131T191500
DTEND;TZID=Europe/Berlin:20220131T191500
DTSTAMP:20260419T194331
CREATED:20211219T192530Z
LAST-MODIFIED:20211219T192530Z
UID:10240-1643656500-1643656500@sankt-bernard.ansgar-portal.de
SUMMARY:Rosenkranzandacht
DESCRIPTION:
URL:https://sankt-bernard.ansgar-portal.de/event/rosenkranzandacht-38/
CATEGORIES:Veranstaltung
END:VEVENT
END:VCALENDAR