BEGIN:VCALENDAR
VERSION:2.0
PRODID:-//Katholische Gemeinde Sankt Bernard Poppenbüttel - ECPv6.15.17.1//NONSGML v1.0//EN
CALSCALE:GREGORIAN
METHOD:PUBLISH
X-ORIGINAL-URL:https://sankt-bernard.ansgar-portal.de
X-WR-CALDESC:Veranstaltungen für Katholische Gemeinde Sankt Bernard Poppenbüttel
REFRESH-INTERVAL;VALUE=DURATION:PT1H
X-Robots-Tag:noindex
X-PUBLISHED-TTL:PT1H
BEGIN:VTIMEZONE
TZID:Europe/Berlin
BEGIN:DAYLIGHT
TZOFFSETFROM:+0100
TZOFFSETTO:+0200
TZNAME:CEST
DTSTART:20200329T010000
END:DAYLIGHT
BEGIN:STANDARD
TZOFFSETFROM:+0200
TZOFFSETTO:+0100
TZNAME:CET
DTSTART:20201025T010000
END:STANDARD
BEGIN:DAYLIGHT
TZOFFSETFROM:+0100
TZOFFSETTO:+0200
TZNAME:CEST
DTSTART:20210328T010000
END:DAYLIGHT
BEGIN:STANDARD
TZOFFSETFROM:+0200
TZOFFSETTO:+0100
TZNAME:CET
DTSTART:20211031T010000
END:STANDARD
BEGIN:DAYLIGHT
TZOFFSETFROM:+0100
TZOFFSETTO:+0200
TZNAME:CEST
DTSTART:20220327T010000
END:DAYLIGHT
BEGIN:STANDARD
TZOFFSETFROM:+0200
TZOFFSETTO:+0100
TZNAME:CET
DTSTART:20221030T010000
END:STANDARD
END:VTIMEZONE
BEGIN:VEVENT
DTSTART;TZID=Europe/Berlin:20210212T083000
DTEND;TZID=Europe/Berlin:20210212T083000
DTSTAMP:20260421T114549
CREATED:20210211T150359Z
LAST-MODIFIED:20210211T150359Z
UID:8797-1613118600-1613118600@sankt-bernard.ansgar-portal.de
SUMMARY:Heilige Messe - Pater Zephyrin
DESCRIPTION:
URL:https://sankt-bernard.ansgar-portal.de/event/heilige-messe-pater-zephyrin-5/
CATEGORIES:Gottesdienst
END:VEVENT
BEGIN:VEVENT
DTSTART;TZID=Europe/Berlin:20210213T173000
DTEND;TZID=Europe/Berlin:20210213T173000
DTSTAMP:20260421T114549
CREATED:20210211T150432Z
LAST-MODIFIED:20210211T150432Z
UID:8800-1613237400-1613237400@sankt-bernard.ansgar-portal.de
SUMMARY:Beichtgelegenheit - Pater Zephyrin
DESCRIPTION:
URL:https://sankt-bernard.ansgar-portal.de/event/beichtgelegenheit-pater-zephyrin-4/
CATEGORIES:Veranstaltung
END:VEVENT
BEGIN:VEVENT
DTSTART;TZID=Europe/Berlin:20210213T180000
DTEND;TZID=Europe/Berlin:20210213T180000
DTSTAMP:20260421T114549
CREATED:20210211T150506Z
LAST-MODIFIED:20210211T150506Z
UID:8803-1613239200-1613239200@sankt-bernard.ansgar-portal.de
SUMMARY:Vorabendmesse - Pater Zephyrin
DESCRIPTION:
URL:https://sankt-bernard.ansgar-portal.de/event/vorabendmesse-pater-zephyrin-23/
CATEGORIES:Gottesdienst
END:VEVENT
BEGIN:VEVENT
DTSTART;TZID=Europe/Berlin:20210214T111500
DTEND;TZID=Europe/Berlin:20210214T111500
DTSTAMP:20260421T114549
CREATED:20210130T101914Z
LAST-MODIFIED:20210130T102623Z
UID:8714-1613301300-1613301300@sankt-bernard.ansgar-portal.de
SUMMARY:Luftschlangen-Gottesdienst (mit Anmeldung!)
DESCRIPTION:Anmeldung \n\nonline: https://deinegemein.de/stbernard\nPapierform: ein Anmeldeformular liegt hinten in der Kirche aus\n\nDie Plätze sind begrenzt.
URL:https://sankt-bernard.ansgar-portal.de/event/luftschlangen-gottesdienst-mit-anmeldung/
CATEGORIES:Gottesdienst
END:VEVENT
BEGIN:VEVENT
DTSTART;TZID=Europe/Berlin:20210215T191500
DTEND;TZID=Europe/Berlin:20210215T191500
DTSTAMP:20260421T114549
CREATED:20210211T144959Z
LAST-MODIFIED:20210211T144959Z
UID:8765-1613416500-1613416500@sankt-bernard.ansgar-portal.de
SUMMARY:Rosenkranzgebet - Wir beten für den Frieden.
DESCRIPTION:
URL:https://sankt-bernard.ansgar-portal.de/event/rosenkranzgebet-wir-beten-fuer-den-frieden-111/
CATEGORIES:Veranstaltung
END:VEVENT
BEGIN:VEVENT
DTSTART;TZID=Europe/Berlin:20210216T191500
DTEND;TZID=Europe/Berlin:20210216T191500
DTSTAMP:20260421T114549
CREATED:20210211T145037Z
LAST-MODIFIED:20210211T145037Z
UID:8767-1613502900-1613502900@sankt-bernard.ansgar-portal.de
SUMMARY:Hl. Messe - entfällt!
DESCRIPTION:
URL:https://sankt-bernard.ansgar-portal.de/event/hl-messe-entfaellt-3/
CATEGORIES:Gottesdienst
END:VEVENT
BEGIN:VEVENT
DTSTART;TZID=Europe/Berlin:20210217T191500
DTEND;TZID=Europe/Berlin:20210217T191500
DTSTAMP:20260421T114549
CREATED:20210211T145119Z
LAST-MODIFIED:20210211T145119Z
UID:8769-1613589300-1613589300@sankt-bernard.ansgar-portal.de
SUMMARY:Hl. Messe - Pater Hammer
DESCRIPTION:
URL:https://sankt-bernard.ansgar-portal.de/event/hl-messe-pater-hammer-13/
CATEGORIES:Gottesdienst
END:VEVENT
BEGIN:VEVENT
DTSTART;TZID=Europe/Berlin:20210218T150000
DTEND;TZID=Europe/Berlin:20210218T150000
DTSTAMP:20260421T114549
CREATED:20210211T145216Z
LAST-MODIFIED:20210211T145216Z
UID:8771-1613660400-1613660400@sankt-bernard.ansgar-portal.de
SUMMARY:Wort-Gottes-Feier-Senioren mit GB Ulrike Wentzke
DESCRIPTION:
URL:https://sankt-bernard.ansgar-portal.de/event/wort-gottes-feier-senioren-mit-gb-ulrike-wentzke/
CATEGORIES:Gottesdienst
END:VEVENT
BEGIN:VEVENT
DTSTART;TZID=Europe/Berlin:20210219T083000
DTEND;TZID=Europe/Berlin:20210219T083000
DTSTAMP:20260421T114549
CREATED:20210211T145310Z
LAST-MODIFIED:20210211T145310Z
UID:8773-1613723400-1613723400@sankt-bernard.ansgar-portal.de
SUMMARY:Hl. Messe - Pater Hammer
DESCRIPTION:
URL:https://sankt-bernard.ansgar-portal.de/event/hl-messe-pater-hammer-14/
CATEGORIES:Gottesdienst
END:VEVENT
BEGIN:VEVENT
DTSTART;TZID=Europe/Berlin:20210220T173000
DTEND;TZID=Europe/Berlin:20210220T173000
DTSTAMP:20260421T114549
CREATED:20210211T145358Z
LAST-MODIFIED:20210211T145358Z
UID:8776-1613842200-1613842200@sankt-bernard.ansgar-portal.de
SUMMARY:Beichtgelegenheit - Pater Geissler
DESCRIPTION:
URL:https://sankt-bernard.ansgar-portal.de/event/beichtgelegenheit-pater-geissler-4/
CATEGORIES:Veranstaltung
END:VEVENT
BEGIN:VEVENT
DTSTART;TZID=Europe/Berlin:20210220T180000
DTEND;TZID=Europe/Berlin:20210220T180000
DTSTAMP:20260421T114549
CREATED:20210211T145434Z
LAST-MODIFIED:20210211T145434Z
UID:8779-1613844000-1613844000@sankt-bernard.ansgar-portal.de
SUMMARY:Vorabendmesse - Pater Geissler
DESCRIPTION:
URL:https://sankt-bernard.ansgar-portal.de/event/vorabendmesse-pater-geissler-4/
CATEGORIES:Gottesdienst
END:VEVENT
BEGIN:VEVENT
DTSTART;TZID=Europe/Berlin:20210221T111500
DTEND;TZID=Europe/Berlin:20210221T111500
DTSTAMP:20260421T114549
CREATED:20210211T145604Z
LAST-MODIFIED:20210211T145604Z
UID:8781-1613906100-1613906100@sankt-bernard.ansgar-portal.de
SUMMARY:Hl. Messe - Pater Zephyrin
DESCRIPTION:
URL:https://sankt-bernard.ansgar-portal.de/event/hl-messe-pater-zephyrin-54/
CATEGORIES:Gottesdienst
END:VEVENT
BEGIN:VEVENT
DTSTART;TZID=Europe/Berlin:20210222T191500
DTEND;TZID=Europe/Berlin:20210222T191500
DTSTAMP:20260421T114549
CREATED:20210211T145642Z
LAST-MODIFIED:20210211T145642Z
UID:8784-1614021300-1614021300@sankt-bernard.ansgar-portal.de
SUMMARY:Rosenkranzandacht
DESCRIPTION:
URL:https://sankt-bernard.ansgar-portal.de/event/rosenkranzandacht-9/
CATEGORIES:Veranstaltung
END:VEVENT
BEGIN:VEVENT
DTSTART;TZID=Europe/Berlin:20210223T191500
DTEND;TZID=Europe/Berlin:20210223T191500
DTSTAMP:20260421T114549
CREATED:20210211T145718Z
LAST-MODIFIED:20210211T145718Z
UID:8786-1614107700-1614107700@sankt-bernard.ansgar-portal.de
SUMMARY:Wort-Gottes-Feier mit GB Ulrike Wentzke
DESCRIPTION:
URL:https://sankt-bernard.ansgar-portal.de/event/wort-gottes-feier-mit-gb-ulrike-wentzke/
CATEGORIES:Gottesdienst
END:VEVENT
BEGIN:VEVENT
DTSTART;TZID=Europe/Berlin:20210226T083000
DTEND;TZID=Europe/Berlin:20210226T083000
DTSTAMP:20260421T114549
CREATED:20210211T145827Z
LAST-MODIFIED:20210211T145827Z
UID:8788-1614328200-1614328200@sankt-bernard.ansgar-portal.de
SUMMARY:Heilige Messe - Pater Geissler
DESCRIPTION:
URL:https://sankt-bernard.ansgar-portal.de/event/heilige-messe-pater-geissler-3/
CATEGORIES:Gottesdienst
END:VEVENT
BEGIN:VEVENT
DTSTART;TZID=Europe/Berlin:20210227T173000
DTEND;TZID=Europe/Berlin:20210227T173000
DTSTAMP:20260421T114549
CREATED:20210211T145919Z
LAST-MODIFIED:20210211T145919Z
UID:8790-1614447000-1614447000@sankt-bernard.ansgar-portal.de
SUMMARY:Beichtgelegenheit - Pater Zephyrin
DESCRIPTION:
URL:https://sankt-bernard.ansgar-portal.de/event/beichtgelegenheit-pater-zephyrin-3/
CATEGORIES:Veranstaltung
END:VEVENT
BEGIN:VEVENT
DTSTART;TZID=Europe/Berlin:20210227T180000
DTEND;TZID=Europe/Berlin:20210227T180000
DTSTAMP:20260421T114549
CREATED:20210211T150011Z
LAST-MODIFIED:20210211T150011Z
UID:8793-1614448800-1614448800@sankt-bernard.ansgar-portal.de
SUMMARY:Vorabendmesse - Pater Zephyrin
DESCRIPTION:
URL:https://sankt-bernard.ansgar-portal.de/event/vorabendmesse-pater-zephyrin-22/
CATEGORIES:Gottesdienst
END:VEVENT
BEGIN:VEVENT
DTSTART;TZID=Europe/Berlin:20210228T180000
DTEND;TZID=Europe/Berlin:20210228T180000
DTSTAMP:20260421T114549
CREATED:20210211T150140Z
LAST-MODIFIED:20210211T150140Z
UID:8795-1614535200-1614535200@sankt-bernard.ansgar-portal.de
SUMMARY:Hl. Messe - Pater Geissler
DESCRIPTION:
URL:https://sankt-bernard.ansgar-portal.de/event/hl-messe-pater-geissler-12/
CATEGORIES:Gottesdienst
END:VEVENT
END:VCALENDAR