BEGIN:VCALENDAR
VERSION:2.0
PRODID:-//Katholische Gemeinde Sankt Bernard Poppenbüttel - ECPv6.15.17.1//NONSGML v1.0//EN
CALSCALE:GREGORIAN
METHOD:PUBLISH
X-WR-CALNAME:Katholische Gemeinde Sankt Bernard Poppenbüttel
X-ORIGINAL-URL:https://sankt-bernard.ansgar-portal.de
X-WR-CALDESC:Veranstaltungen für Katholische Gemeinde Sankt Bernard Poppenbüttel
REFRESH-INTERVAL;VALUE=DURATION:PT1H
X-Robots-Tag:noindex
X-PUBLISHED-TTL:PT1H
BEGIN:VTIMEZONE
TZID:Europe/Berlin
BEGIN:DAYLIGHT
TZOFFSETFROM:+0100
TZOFFSETTO:+0200
TZNAME:CEST
DTSTART:20180325T010000
END:DAYLIGHT
BEGIN:STANDARD
TZOFFSETFROM:+0200
TZOFFSETTO:+0100
TZNAME:CET
DTSTART:20181028T010000
END:STANDARD
BEGIN:DAYLIGHT
TZOFFSETFROM:+0100
TZOFFSETTO:+0200
TZNAME:CEST
DTSTART:20190331T010000
END:DAYLIGHT
BEGIN:STANDARD
TZOFFSETFROM:+0200
TZOFFSETTO:+0100
TZNAME:CET
DTSTART:20191027T010000
END:STANDARD
BEGIN:DAYLIGHT
TZOFFSETFROM:+0100
TZOFFSETTO:+0200
TZNAME:CEST
DTSTART:20200329T010000
END:DAYLIGHT
BEGIN:STANDARD
TZOFFSETFROM:+0200
TZOFFSETTO:+0100
TZNAME:CET
DTSTART:20201025T010000
END:STANDARD
END:VTIMEZONE
BEGIN:VEVENT
DTSTART;TZID=Europe/Berlin:20190503T083000
DTEND;TZID=Europe/Berlin:20190503T083000
DTSTAMP:20260421T130517
CREATED:20190427T222931Z
LAST-MODIFIED:20190427T222931Z
UID:5455-1556872200-1556872200@sankt-bernard.ansgar-portal.de
SUMMARY:Hl. Messe – Pastor Jansen
DESCRIPTION:
URL:https://sankt-bernard.ansgar-portal.de/event/hl-messe-pastor-jansen-33/
CATEGORIES:Gottesdienst
END:VEVENT
BEGIN:VEVENT
DTSTART;TZID=Europe/Berlin:20190504T110000
DTEND;TZID=Europe/Berlin:20190504T110000
DTSTAMP:20260421T130517
CREATED:20190427T222815Z
LAST-MODIFIED:20190427T222815Z
UID:5462-1556967600-1556967600@sankt-bernard.ansgar-portal.de
SUMMARY:Feier der Erstkommunion / Gruppe 1 – Pater Zephyrin
DESCRIPTION:
URL:https://sankt-bernard.ansgar-portal.de/event/feier-der-erstkommunion-gruppe-1-pater-zephyrin/
CATEGORIES:Gottesdienst
END:VEVENT
BEGIN:VEVENT
DTSTART;TZID=Europe/Berlin:20190504T160000
DTEND;TZID=Europe/Berlin:20190504T160000
DTSTAMP:20260421T130517
CREATED:20190427T222815Z
LAST-MODIFIED:20190427T222815Z
UID:5464-1556985600-1556985600@sankt-bernard.ansgar-portal.de
SUMMARY:Feier der Erstkommunion / Gruppe 2 - Pater Zephyrin
DESCRIPTION:
URL:https://sankt-bernard.ansgar-portal.de/event/feier-der-erstkommunion-gruppe-2-pater-zephyrin/
CATEGORIES:Gottesdienst
END:VEVENT
BEGIN:VEVENT
DTSTART;TZID=Europe/Berlin:20190505T111500
DTEND;TZID=Europe/Berlin:20190505T111500
DTSTAMP:20260421T130517
CREATED:20190427T222815Z
LAST-MODIFIED:20190427T222815Z
UID:5466-1557054900-1557054900@sankt-bernard.ansgar-portal.de
SUMMARY:Feier der Erstkommunion / Gruppe 3 – Pater Zephyrin
DESCRIPTION:
URL:https://sankt-bernard.ansgar-portal.de/event/feier-der-erstkommunion-gruppe-3-pater-zephyrin/
CATEGORIES:Gottesdienst
END:VEVENT
BEGIN:VEVENT
DTSTART;TZID=Europe/Berlin:20190505T160000
DTEND;TZID=Europe/Berlin:20190505T160000
DTSTAMP:20260421T130517
CREATED:20190427T222931Z
LAST-MODIFIED:20190427T222931Z
UID:5468-1557072000-1557072000@sankt-bernard.ansgar-portal.de
SUMMARY:Ungarische Messfeier – Pastor Rasztovacz
DESCRIPTION:
URL:https://sankt-bernard.ansgar-portal.de/event/ungarische-messfeier-pastor-rasztovacz/
CATEGORIES:Gottesdienst
END:VEVENT
BEGIN:VEVENT
DTSTART;TZID=Europe/Berlin:20190506T191500
DTEND;TZID=Europe/Berlin:20190506T191500
DTSTAMP:20260421T130517
CREATED:20190427T222931Z
LAST-MODIFIED:20190427T222931Z
UID:5470-1557170100-1557170100@sankt-bernard.ansgar-portal.de
SUMMARY:Rosenkranzgebet – Wir beten für den Frieden.
DESCRIPTION:
URL:https://sankt-bernard.ansgar-portal.de/event/rosenkranzgebet-wir-beten-fuer-den-frieden-68/
CATEGORIES:Veranstaltung
END:VEVENT
BEGIN:VEVENT
DTSTART;TZID=Europe/Berlin:20190507T191500
DTEND;TZID=Europe/Berlin:20190507T191500
DTSTAMP:20260421T130517
CREATED:20190427T222931Z
LAST-MODIFIED:20190427T222931Z
UID:5472-1557256500-1557256500@sankt-bernard.ansgar-portal.de
SUMMARY:Hl. Messe – Pastor Jansen
DESCRIPTION:
URL:https://sankt-bernard.ansgar-portal.de/event/hl-messe-pastor-jansen-34/
CATEGORIES:Gottesdienst
END:VEVENT
BEGIN:VEVENT
DTSTART;TZID=Europe/Berlin:20190508T200000
DTEND;TZID=Europe/Berlin:20190508T200000
DTSTAMP:20260421T130517
CREATED:20190303T184820Z
LAST-MODIFIED:20190303T184820Z
UID:4938-1557345600-1557345600@sankt-bernard.ansgar-portal.de
SUMMARY:Vernetzungstreffen der Gemeindeteams SJP
DESCRIPTION:
URL:https://sankt-bernard.ansgar-portal.de/event/vernetzungstreffen-der-gemeindeteams-sjp/
LOCATION:Sankt Wilhelm\, Hohnerkamp 22\, 22175 Hamburg
CATEGORIES:Veranstaltung
END:VEVENT
BEGIN:VEVENT
DTSTART;TZID=Europe/Berlin:20190509T080000
DTEND;TZID=Europe/Berlin:20190509T170000
DTSTAMP:20260421T130517
CREATED:20190121T164958Z
LAST-MODIFIED:20190121T164958Z
UID:4618-1557388800-1557421200@sankt-bernard.ansgar-portal.de
SUMMARY:Firmvorbereitung
DESCRIPTION:
URL:https://sankt-bernard.ansgar-portal.de/event/firmvorbereitung-17/
CATEGORIES:Veranstaltung
END:VEVENT
BEGIN:VEVENT
DTSTART;TZID=Europe/Berlin:20190510T083000
DTEND;TZID=Europe/Berlin:20190510T083000
DTSTAMP:20260421T130517
CREATED:20190427T222736Z
LAST-MODIFIED:20190427T222736Z
UID:5474-1557477000-1557477000@sankt-bernard.ansgar-portal.de
SUMMARY:Hl. Messe – Pastor Jansen
DESCRIPTION:
URL:https://sankt-bernard.ansgar-portal.de/event/hl-messe-pastor-jansen-32/
CATEGORIES:Gottesdienst
END:VEVENT
BEGIN:VEVENT
DTSTART;TZID=Europe/Berlin:20190511T150000
DTEND;TZID=Europe/Berlin:20190511T200000
DTSTAMP:20260421T130517
CREATED:20190303T185202Z
LAST-MODIFIED:20190303T185202Z
UID:4942-1557586800-1557604800@sankt-bernard.ansgar-portal.de
SUMMARY:Vernetzungstreffen der Gemeindeteams und Themenpaten SJP
DESCRIPTION:
URL:https://sankt-bernard.ansgar-portal.de/event/vernetzungstreffen-der-gemeindeteams-und-themenpaten-sjp/
LOCATION:Sankt Bernard\, Langenstücken 40\, 22393 Hamburg
CATEGORIES:Veranstaltung
END:VEVENT
BEGIN:VEVENT
DTSTART;TZID=Europe/Berlin:20190511T170000
DTEND;TZID=Europe/Berlin:20190511T170000
DTSTAMP:20260421T130518
CREATED:20190427T222950Z
LAST-MODIFIED:20190427T222950Z
UID:5476-1557594000-1557594000@sankt-bernard.ansgar-portal.de
SUMMARY:Beichtgelegenheit
DESCRIPTION:
URL:https://sankt-bernard.ansgar-portal.de/event/beichtgelegenheit-41/
CATEGORIES:Veranstaltung
END:VEVENT
BEGIN:VEVENT
DTSTART;TZID=Europe/Berlin:20190511T180000
DTEND;TZID=Europe/Berlin:20190511T180000
DTSTAMP:20260421T130518
CREATED:20190427T222736Z
LAST-MODIFIED:20190427T222736Z
UID:5478-1557597600-1557597600@sankt-bernard.ansgar-portal.de
SUMMARY:Vorabendmesse – Pastor Jansen
DESCRIPTION:
URL:https://sankt-bernard.ansgar-portal.de/event/vorabendmesse-pastor-jansen-5/
CATEGORIES:Gottesdienst
END:VEVENT
BEGIN:VEVENT
DTSTART;TZID=Europe/Berlin:20190512T111500
DTEND;TZID=Europe/Berlin:20190512T111500
DTSTAMP:20260421T130518
CREATED:20190427T222735Z
LAST-MODIFIED:20190427T222735Z
UID:5480-1557659700-1557659700@sankt-bernard.ansgar-portal.de
SUMMARY:Silbernes Priesterjubiläum von Pater Augustinus Wehrmeier: Hl. Messe – Pater Winkens\, Pastor Jansen\, Pater Augustinus Wehrmeier OFM
DESCRIPTION:
URL:https://sankt-bernard.ansgar-portal.de/event/silbernes-priesterjubilaeum-von-pater-augustinus-wehrmeier-hl-messe-pater-winkens-pastor-jansen-pater-augustinus-wehrmeier-ofm/
CATEGORIES:Gottesdienst
END:VEVENT
BEGIN:VEVENT
DTSTART;TZID=Europe/Berlin:20190513T191500
DTEND;TZID=Europe/Berlin:20190513T191500
DTSTAMP:20260421T130518
CREATED:20190511T211006Z
LAST-MODIFIED:20190511T211006Z
UID:5541-1557774900-1557774900@sankt-bernard.ansgar-portal.de
SUMMARY:Rosenkranzgebet - Wir beten für den Frieden
DESCRIPTION:
URL:https://sankt-bernard.ansgar-portal.de/event/rosenkranzgebet-wir-beten-fuer-den-frieden-69/
CATEGORIES:Veranstaltung
END:VEVENT
BEGIN:VEVENT
DTSTART;TZID=Europe/Berlin:20190514T173000
DTEND;TZID=Europe/Berlin:20190514T173000
DTSTAMP:20260421T130518
CREATED:20190511T211101Z
LAST-MODIFIED:20190511T211101Z
UID:5543-1557855000-1557855000@sankt-bernard.ansgar-portal.de
SUMMARY:Bibelgesprächskreis
DESCRIPTION:
URL:https://sankt-bernard.ansgar-portal.de/event/bibelgespraechskreis-8/
LOCATION:Konferenzraum
CATEGORIES:Veranstaltung
END:VEVENT
BEGIN:VEVENT
DTSTART;TZID=Europe/Berlin:20190514T191500
DTEND;TZID=Europe/Berlin:20190514T191500
DTSTAMP:20260421T130518
CREATED:20190511T211137Z
LAST-MODIFIED:20190511T211137Z
UID:5545-1557861300-1557861300@sankt-bernard.ansgar-portal.de
SUMMARY:Heilige Messe – Pater Ivan Kuterovac oder Pater Ante Jonjic
DESCRIPTION:
URL:https://sankt-bernard.ansgar-portal.de/event/heilige-messe-pater-ivan-kuterovac-oder-pater-ante-jonjic/
CATEGORIES:Gottesdienst
END:VEVENT
BEGIN:VEVENT
DTSTART;TZID=Europe/Berlin:20190516T150000
DTEND;TZID=Europe/Berlin:20190516T150000
DTSTAMP:20260421T130518
CREATED:20190511T211236Z
LAST-MODIFIED:20190511T211236Z
UID:5547-1558018800-1558018800@sankt-bernard.ansgar-portal.de
SUMMARY:Seniorennachmittag
DESCRIPTION:beginnend mit einer Heiligen Messe – Pastor Jansen
URL:https://sankt-bernard.ansgar-portal.de/event/seniorennachmittag-3/
CATEGORIES:Gottesdienst,Veranstaltung
END:VEVENT
BEGIN:VEVENT
DTSTART;TZID=Europe/Berlin:20190517T083000
DTEND;TZID=Europe/Berlin:20190517T083000
DTSTAMP:20260421T130518
CREATED:20190511T211322Z
LAST-MODIFIED:20190511T211322Z
UID:5549-1558081800-1558081800@sankt-bernard.ansgar-portal.de
SUMMARY:Heilige Messe – Pastor Jansen
DESCRIPTION:
URL:https://sankt-bernard.ansgar-portal.de/event/heilige-messe-pastor-jansen/
CATEGORIES:Gottesdienst
END:VEVENT
BEGIN:VEVENT
DTSTART;TZID=Europe/Berlin:20190518T170000
DTEND;TZID=Europe/Berlin:20190518T170000
DTSTAMP:20260421T130518
CREATED:20190511T211403Z
LAST-MODIFIED:20190511T211403Z
UID:5551-1558198800-1558198800@sankt-bernard.ansgar-portal.de
SUMMARY:Beichtgelegenheit
DESCRIPTION:
URL:https://sankt-bernard.ansgar-portal.de/event/beichtgelegenheit-42/
END:VEVENT
BEGIN:VEVENT
DTSTART;TZID=Europe/Berlin:20190518T180000
DTEND;TZID=Europe/Berlin:20190518T180000
DTSTAMP:20260421T130518
CREATED:20190511T211439Z
LAST-MODIFIED:20190511T211439Z
UID:5553-1558202400-1558202400@sankt-bernard.ansgar-portal.de
SUMMARY:Vorabendmesse – Pater Ante Jonjic
DESCRIPTION:
URL:https://sankt-bernard.ansgar-portal.de/event/vorabendmesse-pater-ante-jonjic-6/
CATEGORIES:Gottesdienst
END:VEVENT
BEGIN:VEVENT
DTSTART;TZID=Europe/Berlin:20190518T180000
DTEND;TZID=Europe/Berlin:20190518T180000
DTSTAMP:20260421T130518
CREATED:20190511T212118Z
LAST-MODIFIED:20190511T212118Z
UID:5567-1558202400-1558202400@sankt-bernard.ansgar-portal.de
SUMMARY:Vorabendmesse – Pater Zephyrin
DESCRIPTION:
URL:https://sankt-bernard.ansgar-portal.de/event/vorabendmesse-pater-zephyrin-16/
CATEGORIES:Gottesdienst
END:VEVENT
BEGIN:VEVENT
DTSTART;TZID=Europe/Berlin:20190519T111500
DTEND;TZID=Europe/Berlin:20190519T111500
DTSTAMP:20260421T130518
CREATED:20190511T211544Z
LAST-MODIFIED:20190511T211544Z
UID:5555-1558264500-1558264500@sankt-bernard.ansgar-portal.de
SUMMARY:Heilige Messe - P. Kristopeit
DESCRIPTION:
URL:https://sankt-bernard.ansgar-portal.de/event/heilige-messe-p-kristopeit-2/
CATEGORIES:Gottesdienst
END:VEVENT
BEGIN:VEVENT
DTSTART;TZID=Europe/Berlin:20190519T111500
DTEND;TZID=Europe/Berlin:20190519T111500
DTSTAMP:20260421T130518
CREATED:20190511T211637Z
LAST-MODIFIED:20190511T211637Z
UID:5557-1558264500-1558264500@sankt-bernard.ansgar-portal.de
SUMMARY:Kinderkirche
DESCRIPTION:
URL:https://sankt-bernard.ansgar-portal.de/event/kinderkirche-11/
LOCATION:Gemeindesaal
CATEGORIES:Gottesdienst
END:VEVENT
BEGIN:VEVENT
DTSTART;TZID=Europe/Berlin:20190520T191500
DTEND;TZID=Europe/Berlin:20190520T191500
DTSTAMP:20260421T130518
CREATED:20190511T211724Z
LAST-MODIFIED:20190511T211724Z
UID:5559-1558379700-1558379700@sankt-bernard.ansgar-portal.de
SUMMARY:Rosenkranzgebet – Wir beten für den Frieden
DESCRIPTION:
URL:https://sankt-bernard.ansgar-portal.de/event/rosenkranzgebet-wir-beten-fuer-den-frieden-70/
CATEGORIES:Veranstaltung
END:VEVENT
BEGIN:VEVENT
DTSTART;TZID=Europe/Berlin:20190521T191500
DTEND;TZID=Europe/Berlin:20190521T191500
DTSTAMP:20260421T130518
CREATED:20190511T211808Z
LAST-MODIFIED:20190511T211808Z
UID:5561-1558466100-1558466100@sankt-bernard.ansgar-portal.de
SUMMARY:Heilige Messe – Pastor Jansen oder Pater Ivan Kuterovac
DESCRIPTION:
URL:https://sankt-bernard.ansgar-portal.de/event/heilige-messe-pastor-jansen-oder-pater-ivan-kuterovac/
CATEGORIES:Gottesdienst
END:VEVENT
BEGIN:VEVENT
DTSTART;TZID=Europe/Berlin:20190523T183000
DTEND;TZID=Europe/Berlin:20190523T183000
DTSTAMP:20260421T130518
CREATED:20190121T165038Z
LAST-MODIFIED:20190121T165038Z
UID:4620-1558636200-1558636200@sankt-bernard.ansgar-portal.de
SUMMARY:Firmvorbereitung
DESCRIPTION:
URL:https://sankt-bernard.ansgar-portal.de/event/firmvorbereitung-18/
CATEGORIES:Veranstaltung
END:VEVENT
BEGIN:VEVENT
DTSTART;TZID=Europe/Berlin:20190524T083000
DTEND;TZID=Europe/Berlin:20190524T083000
DTSTAMP:20260421T130518
CREATED:20190511T211922Z
LAST-MODIFIED:20190511T211922Z
UID:5563-1558686600-1558686600@sankt-bernard.ansgar-portal.de
SUMMARY:Heilige Messe – Pater Zephyrin
DESCRIPTION:
URL:https://sankt-bernard.ansgar-portal.de/event/heilige-messe-pater-zephyrin/
CATEGORIES:Gottesdienst
END:VEVENT
BEGIN:VEVENT
DTSTART;TZID=Europe/Berlin:20190525T150000
DTEND;TZID=Europe/Berlin:20190525T150000
DTSTAMP:20260421T130518
CREATED:20190107T073727Z
LAST-MODIFIED:20190525T101758Z
UID:4443-1558796400-1558796400@sankt-bernard.ansgar-portal.de
SUMMARY:Café St. Bernard - FÄLLT AUS!
DESCRIPTION:
URL:https://sankt-bernard.ansgar-portal.de/event/cafe-st-bernard-17/
CATEGORIES:Veranstaltung
ATTACH;FMTTYPE=image/gif:https://sankt-bernard.ansgar-portal.de/wp-content/blogs.dir/16/files/sites/16/2018/01/Cafe_St_Bernard_bearbeitet-4.gif
END:VEVENT
BEGIN:VEVENT
DTSTART;TZID=Europe/Berlin:20190525T150000
DTEND;TZID=Europe/Berlin:20190525T180000
DTSTAMP:20260421T130518
CREATED:20180826T192734Z
LAST-MODIFIED:20180826T192734Z
UID:3527-1558796400-1558807200@sankt-bernard.ansgar-portal.de
SUMMARY:Reli-Club für alle
DESCRIPTION:Vorbereitung eines Familiengottesdienstes
URL:https://sankt-bernard.ansgar-portal.de/event/reli-club-fuer-alle-4/
LOCATION:Gemeindesaal
CATEGORIES:Veranstaltung
ATTACH;FMTTYPE=image/jpeg:https://sankt-bernard.ansgar-portal.de/wp-content/blogs.dir/16/files/sites/16/2017/07/20170727_135313-Kopie.jpg
END:VEVENT
END:VCALENDAR