BEGIN:VCALENDAR
VERSION:2.0
PRODID:-//Katholische Gemeinde Sankt Bernard Poppenbüttel - ECPv6.15.17.1//NONSGML v1.0//EN
CALSCALE:GREGORIAN
METHOD:PUBLISH
X-WR-CALNAME:Katholische Gemeinde Sankt Bernard Poppenbüttel
X-ORIGINAL-URL:https://sankt-bernard.ansgar-portal.de
X-WR-CALDESC:Veranstaltungen für Katholische Gemeinde Sankt Bernard Poppenbüttel
REFRESH-INTERVAL;VALUE=DURATION:PT1H
X-Robots-Tag:noindex
X-PUBLISHED-TTL:PT1H
BEGIN:VTIMEZONE
TZID:Europe/Berlin
BEGIN:DAYLIGHT
TZOFFSETFROM:+0100
TZOFFSETTO:+0200
TZNAME:CEST
DTSTART:20230326T010000
END:DAYLIGHT
BEGIN:STANDARD
TZOFFSETFROM:+0200
TZOFFSETTO:+0100
TZNAME:CET
DTSTART:20231029T010000
END:STANDARD
BEGIN:DAYLIGHT
TZOFFSETFROM:+0100
TZOFFSETTO:+0200
TZNAME:CEST
DTSTART:20240331T010000
END:DAYLIGHT
BEGIN:STANDARD
TZOFFSETFROM:+0200
TZOFFSETTO:+0100
TZNAME:CET
DTSTART:20241027T010000
END:STANDARD
BEGIN:DAYLIGHT
TZOFFSETFROM:+0100
TZOFFSETTO:+0200
TZNAME:CEST
DTSTART:20250330T010000
END:DAYLIGHT
BEGIN:STANDARD
TZOFFSETFROM:+0200
TZOFFSETTO:+0100
TZNAME:CET
DTSTART:20251026T010000
END:STANDARD
END:VTIMEZONE
BEGIN:VEVENT
DTSTART;TZID=Europe/Berlin:20241224T153000
DTEND;TZID=Europe/Berlin:20241224T153000
DTSTAMP:20260423T185959
CREATED:20241124T172553Z
LAST-MODIFIED:20241124T172553Z
UID:14310-1735054200-1735054200@sankt-bernard.ansgar-portal.de
SUMMARY:Krippenfeier (CWA)
DESCRIPTION:
URL:https://sankt-bernard.ansgar-portal.de/event/krippenfeier-cwa/
END:VEVENT
BEGIN:VEVENT
DTSTART;TZID=Europe/Berlin:20241224T173000
DTEND;TZID=Europe/Berlin:20241224T173000
DTSTAMP:20260423T185959
CREATED:20241202T212601Z
LAST-MODIFIED:20241202T212601Z
UID:14331-1735061400-1735061400@sankt-bernard.ansgar-portal.de
SUMMARY:Vesper zum Heiligen Abend
DESCRIPTION:
URL:https://sankt-bernard.ansgar-portal.de/event/vesper-zum-heiligen-abend-2/
END:VEVENT
BEGIN:VEVENT
DTSTART;TZID=Europe/Berlin:20241224T220000
DTEND;TZID=Europe/Berlin:20241224T220000
DTSTAMP:20260423T185959
CREATED:20241213T144412Z
LAST-MODIFIED:20241213T144412Z
UID:14389-1735077600-1735077600@sankt-bernard.ansgar-portal.de
SUMMARY:Weihnachtsvigil
DESCRIPTION:
URL:https://sankt-bernard.ansgar-portal.de/event/weihnachtsvigil/
END:VEVENT
END:VCALENDAR