BEGIN:VCALENDAR
VERSION:2.0
PRODID:-//Katholische Gemeinde Sankt Bernard Poppenbüttel - ECPv6.15.17.1//NONSGML v1.0//EN
CALSCALE:GREGORIAN
METHOD:PUBLISH
X-ORIGINAL-URL:https://sankt-bernard.ansgar-portal.de
X-WR-CALDESC:Veranstaltungen für Katholische Gemeinde Sankt Bernard Poppenbüttel
REFRESH-INTERVAL;VALUE=DURATION:PT1H
X-Robots-Tag:noindex
X-PUBLISHED-TTL:PT1H
BEGIN:VTIMEZONE
TZID:Europe/Berlin
BEGIN:DAYLIGHT
TZOFFSETFROM:+0100
TZOFFSETTO:+0200
TZNAME:CEST
DTSTART:20230326T010000
END:DAYLIGHT
BEGIN:STANDARD
TZOFFSETFROM:+0200
TZOFFSETTO:+0100
TZNAME:CET
DTSTART:20231029T010000
END:STANDARD
BEGIN:DAYLIGHT
TZOFFSETFROM:+0100
TZOFFSETTO:+0200
TZNAME:CEST
DTSTART:20240331T010000
END:DAYLIGHT
BEGIN:STANDARD
TZOFFSETFROM:+0200
TZOFFSETTO:+0100
TZNAME:CET
DTSTART:20241027T010000
END:STANDARD
BEGIN:DAYLIGHT
TZOFFSETFROM:+0100
TZOFFSETTO:+0200
TZNAME:CEST
DTSTART:20250330T010000
END:DAYLIGHT
BEGIN:STANDARD
TZOFFSETFROM:+0200
TZOFFSETTO:+0100
TZNAME:CET
DTSTART:20251026T010000
END:STANDARD
END:VTIMEZONE
BEGIN:VEVENT
DTSTART;TZID=Europe/Berlin:20241102T173000
DTEND;TZID=Europe/Berlin:20241102T173000
DTSTAMP:20260423T202404
CREATED:20241013T214556Z
LAST-MODIFIED:20241013T214556Z
UID:14174-1730568600-1730568600@sankt-bernard.ansgar-portal.de
SUMMARY:Beichte (Ze)
DESCRIPTION:
URL:https://sankt-bernard.ansgar-portal.de/event/beichte-ze/
END:VEVENT
BEGIN:VEVENT
DTSTART;TZID=Europe/Berlin:20241102T180000
DTEND;TZID=Europe/Berlin:20241102T180000
DTSTAMP:20260423T202404
CREATED:20241013T213929Z
LAST-MODIFIED:20241013T213929Z
UID:14167-1730570400-1730570400@sankt-bernard.ansgar-portal.de
SUMMARY:Heilige Messe zu Allerseelen (Ze)
DESCRIPTION:
URL:https://sankt-bernard.ansgar-portal.de/event/heilige-messe-zu-allerseelen-ze/
END:VEVENT
END:VCALENDAR