BEGIN:VCALENDAR
VERSION:2.0
PRODID:-//Katholische Gemeinde Sankt Bernard Poppenbüttel - ECPv6.15.17.1//NONSGML v1.0//EN
CALSCALE:GREGORIAN
METHOD:PUBLISH
X-ORIGINAL-URL:https://sankt-bernard.ansgar-portal.de
X-WR-CALDESC:Veranstaltungen für Katholische Gemeinde Sankt Bernard Poppenbüttel
REFRESH-INTERVAL;VALUE=DURATION:PT1H
X-Robots-Tag:noindex
X-PUBLISHED-TTL:PT1H
BEGIN:VTIMEZONE
TZID:Europe/Berlin
BEGIN:DAYLIGHT
TZOFFSETFROM:+0100
TZOFFSETTO:+0200
TZNAME:CEST
DTSTART:20210328T010000
END:DAYLIGHT
BEGIN:STANDARD
TZOFFSETFROM:+0200
TZOFFSETTO:+0100
TZNAME:CET
DTSTART:20211031T010000
END:STANDARD
BEGIN:DAYLIGHT
TZOFFSETFROM:+0100
TZOFFSETTO:+0200
TZNAME:CEST
DTSTART:20220327T010000
END:DAYLIGHT
BEGIN:STANDARD
TZOFFSETFROM:+0200
TZOFFSETTO:+0100
TZNAME:CET
DTSTART:20221030T010000
END:STANDARD
BEGIN:DAYLIGHT
TZOFFSETFROM:+0100
TZOFFSETTO:+0200
TZNAME:CEST
DTSTART:20230326T010000
END:DAYLIGHT
BEGIN:STANDARD
TZOFFSETFROM:+0200
TZOFFSETTO:+0100
TZNAME:CET
DTSTART:20231029T010000
END:STANDARD
END:VTIMEZONE
BEGIN:VEVENT
DTSTART;TZID=Europe/Berlin:20221127T111500
DTEND;TZID=Europe/Berlin:20221127T111500
DTSTAMP:20260421T144820
CREATED:20221113T133125Z
LAST-MODIFIED:20221113T133125Z
UID:11405-1669547700-1669547700@sankt-bernard.ansgar-portal.de
SUMMARY:Hl. Messe mit Firmbewerbern - Pater Kiefer
DESCRIPTION:
URL:https://sankt-bernard.ansgar-portal.de/event/hl-messe-mit-firmbewerbern-pater-kiefer/
CATEGORIES:Gottesdienst
END:VEVENT
BEGIN:VEVENT
DTSTART;TZID=Europe/Berlin:20221127T160000
DTEND;TZID=Europe/Berlin:20221127T160000
DTSTAMP:20260421T144820
CREATED:20221114T105751Z
LAST-MODIFIED:20221114T105751Z
UID:11412-1669564800-1669564800@sankt-bernard.ansgar-portal.de
SUMMARY:Adventssingen mit dem Chor aufTakt und dem Kammerorchester
DESCRIPTION:
URL:https://sankt-bernard.ansgar-portal.de/event/adventssingen-mit-dem-chor-auftakt-und-dem-kammerorchester/
CATEGORIES:Veranstaltung
END:VEVENT
END:VCALENDAR