BEGIN:VCALENDAR
VERSION:2.0
PRODID:-//Katholische Gemeinde Sankt Bernard Poppenbüttel - ECPv6.15.17.1//NONSGML v1.0//EN
CALSCALE:GREGORIAN
METHOD:PUBLISH
X-ORIGINAL-URL:https://sankt-bernard.ansgar-portal.de
X-WR-CALDESC:Veranstaltungen für Katholische Gemeinde Sankt Bernard Poppenbüttel
REFRESH-INTERVAL;VALUE=DURATION:PT1H
X-Robots-Tag:noindex
X-PUBLISHED-TTL:PT1H
BEGIN:VTIMEZONE
TZID:Europe/Berlin
BEGIN:DAYLIGHT
TZOFFSETFROM:+0100
TZOFFSETTO:+0200
TZNAME:CEST
DTSTART:20210328T010000
END:DAYLIGHT
BEGIN:STANDARD
TZOFFSETFROM:+0200
TZOFFSETTO:+0100
TZNAME:CET
DTSTART:20211031T010000
END:STANDARD
BEGIN:DAYLIGHT
TZOFFSETFROM:+0100
TZOFFSETTO:+0200
TZNAME:CEST
DTSTART:20220327T010000
END:DAYLIGHT
BEGIN:STANDARD
TZOFFSETFROM:+0200
TZOFFSETTO:+0100
TZNAME:CET
DTSTART:20221030T010000
END:STANDARD
BEGIN:DAYLIGHT
TZOFFSETFROM:+0100
TZOFFSETTO:+0200
TZNAME:CEST
DTSTART:20230326T010000
END:DAYLIGHT
BEGIN:STANDARD
TZOFFSETFROM:+0200
TZOFFSETTO:+0100
TZNAME:CET
DTSTART:20231029T010000
END:STANDARD
END:VTIMEZONE
BEGIN:VEVENT
DTSTART;TZID=Europe/Berlin:20221119T150000
DTEND;TZID=Europe/Berlin:20221119T180000
DTSTAMP:20260423T104924
CREATED:20221012T104121Z
LAST-MODIFIED:20221012T104214Z
UID:11337-1668870000-1668880800@sankt-bernard.ansgar-portal.de
SUMMARY:Weihnachtsmarkt in Sankt Bernard
DESCRIPTION:
URL:https://sankt-bernard.ansgar-portal.de/event/weihnachtsmarkt-in-sankt-bernard/
CATEGORIES:Veranstaltung
END:VEVENT
BEGIN:VEVENT
DTSTART;TZID=Europe/Berlin:20221119T173000
DTEND;TZID=Europe/Berlin:20221119T173000
DTSTAMP:20260423T104924
CREATED:20221113T132541Z
LAST-MODIFIED:20221113T132541Z
UID:11386-1668879000-1668879000@sankt-bernard.ansgar-portal.de
SUMMARY:Beichtgelegenheit - Pater Paul
DESCRIPTION:
URL:https://sankt-bernard.ansgar-portal.de/event/beichtgelegenheit-pater-paul-2/
CATEGORIES:Veranstaltung
END:VEVENT
BEGIN:VEVENT
DTSTART;TZID=Europe/Berlin:20221119T180000
DTEND;TZID=Europe/Berlin:20221119T180000
DTSTAMP:20260423T104924
CREATED:20221113T132621Z
LAST-MODIFIED:20221113T132621Z
UID:11388-1668880800-1668880800@sankt-bernard.ansgar-portal.de
SUMMARY:Vorabendmesse - Pater Paul
DESCRIPTION:
URL:https://sankt-bernard.ansgar-portal.de/event/vorabendmesse-pater-paul-3/
CATEGORIES:Gottesdienst
END:VEVENT
END:VCALENDAR