BEGIN:VCALENDAR
VERSION:2.0
PRODID:-//Katholische Gemeinde Sankt Bernard Poppenbüttel - ECPv6.15.17.1//NONSGML v1.0//EN
CALSCALE:GREGORIAN
METHOD:PUBLISH
X-WR-CALNAME:Katholische Gemeinde Sankt Bernard Poppenbüttel
X-ORIGINAL-URL:https://sankt-bernard.ansgar-portal.de
X-WR-CALDESC:Veranstaltungen für Katholische Gemeinde Sankt Bernard Poppenbüttel
REFRESH-INTERVAL;VALUE=DURATION:PT1H
X-Robots-Tag:noindex
X-PUBLISHED-TTL:PT1H
BEGIN:VTIMEZONE
TZID:Europe/Berlin
BEGIN:DAYLIGHT
TZOFFSETFROM:+0100
TZOFFSETTO:+0200
TZNAME:CEST
DTSTART:20210328T010000
END:DAYLIGHT
BEGIN:STANDARD
TZOFFSETFROM:+0200
TZOFFSETTO:+0100
TZNAME:CET
DTSTART:20211031T010000
END:STANDARD
BEGIN:DAYLIGHT
TZOFFSETFROM:+0100
TZOFFSETTO:+0200
TZNAME:CEST
DTSTART:20220327T010000
END:DAYLIGHT
BEGIN:STANDARD
TZOFFSETFROM:+0200
TZOFFSETTO:+0100
TZNAME:CET
DTSTART:20221030T010000
END:STANDARD
BEGIN:DAYLIGHT
TZOFFSETFROM:+0100
TZOFFSETTO:+0200
TZNAME:CEST
DTSTART:20230326T010000
END:DAYLIGHT
BEGIN:STANDARD
TZOFFSETFROM:+0200
TZOFFSETTO:+0100
TZNAME:CET
DTSTART:20231029T010000
END:STANDARD
END:VTIMEZONE
BEGIN:VEVENT
DTSTART;TZID=Europe/Berlin:20221015T173000
DTEND;TZID=Europe/Berlin:20221015T173000
DTSTAMP:20260423T190321
CREATED:20221001T114241Z
LAST-MODIFIED:20221001T114241Z
UID:11262-1665855000-1665855000@sankt-bernard.ansgar-portal.de
SUMMARY:Beichtgelegenheit - Pater Michael
DESCRIPTION:
URL:https://sankt-bernard.ansgar-portal.de/event/beichtgelegenheit-pater-michael/
CATEGORIES:Veranstaltung
END:VEVENT
BEGIN:VEVENT
DTSTART;TZID=Europe/Berlin:20221015T180000
DTEND;TZID=Europe/Berlin:20221015T180000
DTSTAMP:20260423T190321
CREATED:20221001T160257Z
LAST-MODIFIED:20221001T160257Z
UID:11264-1665856800-1665856800@sankt-bernard.ansgar-portal.de
SUMMARY:Vorabendmesse - Pater Paul
DESCRIPTION:
URL:https://sankt-bernard.ansgar-portal.de/event/vorabendmesse-pater-paul/
CATEGORIES:Gottesdienst
END:VEVENT
END:VCALENDAR