BEGIN:VCALENDAR
VERSION:2.0
PRODID:-//Katholische Gemeinde Sankt Bernard Poppenbüttel - ECPv6.15.17.1//NONSGML v1.0//EN
CALSCALE:GREGORIAN
METHOD:PUBLISH
X-ORIGINAL-URL:https://sankt-bernard.ansgar-portal.de
X-WR-CALDESC:Veranstaltungen für Katholische Gemeinde Sankt Bernard Poppenbüttel
REFRESH-INTERVAL;VALUE=DURATION:PT1H
X-Robots-Tag:noindex
X-PUBLISHED-TTL:PT1H
BEGIN:VTIMEZONE
TZID:Europe/Berlin
BEGIN:DAYLIGHT
TZOFFSETFROM:+0100
TZOFFSETTO:+0200
TZNAME:CEST
DTSTART:20210328T010000
END:DAYLIGHT
BEGIN:STANDARD
TZOFFSETFROM:+0200
TZOFFSETTO:+0100
TZNAME:CET
DTSTART:20211031T010000
END:STANDARD
BEGIN:DAYLIGHT
TZOFFSETFROM:+0100
TZOFFSETTO:+0200
TZNAME:CEST
DTSTART:20220327T010000
END:DAYLIGHT
BEGIN:STANDARD
TZOFFSETFROM:+0200
TZOFFSETTO:+0100
TZNAME:CET
DTSTART:20221030T010000
END:STANDARD
BEGIN:DAYLIGHT
TZOFFSETFROM:+0100
TZOFFSETTO:+0200
TZNAME:CEST
DTSTART:20230326T010000
END:DAYLIGHT
BEGIN:STANDARD
TZOFFSETFROM:+0200
TZOFFSETTO:+0100
TZNAME:CET
DTSTART:20231029T010000
END:STANDARD
END:VTIMEZONE
BEGIN:VEVENT
DTSTART;TZID=Europe/Berlin:20220917T130000
DTEND;TZID=Europe/Berlin:20220917T230000
DTSTAMP:20260421T161215
CREATED:20220917T095855Z
LAST-MODIFIED:20220917T095855Z
UID:11232-1663419600-1663455600@sankt-bernard.ansgar-portal.de
SUMMARY:Gemeindefest anlässlich des Pfafinder-Jubiläums
DESCRIPTION:
URL:https://sankt-bernard.ansgar-portal.de/event/gemeindefest-anlaesslich-des-pfafinder-jubilaeums/
END:VEVENT
BEGIN:VEVENT
DTSTART;TZID=Europe/Berlin:20220917T173000
DTEND;TZID=Europe/Berlin:20220917T173000
DTSTAMP:20260421T161215
CREATED:20220910T205736Z
LAST-MODIFIED:20220910T205736Z
UID:11160-1663435800-1663435800@sankt-bernard.ansgar-portal.de
SUMMARY:Beichtgelegenheit - entfällt !!
DESCRIPTION:
URL:https://sankt-bernard.ansgar-portal.de/event/beichtgelegenheit-entfaellt-20/
CATEGORIES:Veranstaltung
END:VEVENT
BEGIN:VEVENT
DTSTART;TZID=Europe/Berlin:20220917T180000
DTEND;TZID=Europe/Berlin:20220917T180000
DTSTAMP:20260421T161215
CREATED:20220910T205818Z
LAST-MODIFIED:20220910T205818Z
UID:11162-1663437600-1663437600@sankt-bernard.ansgar-portal.de
SUMMARY:Vorabendmesse – Jubiläum 40 Jahre Stamm Don Bosco - Pater Hammer
DESCRIPTION:
URL:https://sankt-bernard.ansgar-portal.de/event/vorabendmesse-jubilaeum-40-jahre-stamm-don-bosco-pater-hammer/
CATEGORIES:Gottesdienst
END:VEVENT
END:VCALENDAR