BEGIN:VCALENDAR
VERSION:2.0
PRODID:-//Katholische Gemeinde Sankt Bernard Poppenbüttel - ECPv6.15.17.1//NONSGML v1.0//EN
CALSCALE:GREGORIAN
METHOD:PUBLISH
X-ORIGINAL-URL:https://sankt-bernard.ansgar-portal.de
X-WR-CALDESC:Veranstaltungen für Katholische Gemeinde Sankt Bernard Poppenbüttel
REFRESH-INTERVAL;VALUE=DURATION:PT1H
X-Robots-Tag:noindex
X-PUBLISHED-TTL:PT1H
BEGIN:VTIMEZONE
TZID:Europe/Berlin
BEGIN:DAYLIGHT
TZOFFSETFROM:+0100
TZOFFSETTO:+0200
TZNAME:CEST
DTSTART:20210328T010000
END:DAYLIGHT
BEGIN:STANDARD
TZOFFSETFROM:+0200
TZOFFSETTO:+0100
TZNAME:CET
DTSTART:20211031T010000
END:STANDARD
BEGIN:DAYLIGHT
TZOFFSETFROM:+0100
TZOFFSETTO:+0200
TZNAME:CEST
DTSTART:20220327T010000
END:DAYLIGHT
BEGIN:STANDARD
TZOFFSETFROM:+0200
TZOFFSETTO:+0100
TZNAME:CET
DTSTART:20221030T010000
END:STANDARD
BEGIN:DAYLIGHT
TZOFFSETFROM:+0100
TZOFFSETTO:+0200
TZNAME:CEST
DTSTART:20230326T010000
END:DAYLIGHT
BEGIN:STANDARD
TZOFFSETFROM:+0200
TZOFFSETTO:+0100
TZNAME:CET
DTSTART:20231029T010000
END:STANDARD
END:VTIMEZONE
BEGIN:VEVENT
DTSTART;TZID=Europe/Berlin:20220409T173000
DTEND;TZID=Europe/Berlin:20220409T173000
DTSTAMP:20260419T202702
CREATED:20220403T184439Z
LAST-MODIFIED:20220403T184439Z
UID:10592-1649525400-1649525400@sankt-bernard.ansgar-portal.de
SUMMARY:Beichtgelegenheit entfällt!
DESCRIPTION:
URL:https://sankt-bernard.ansgar-portal.de/event/beichtgelegenheit-entfaellt-16/
CATEGORIES:Veranstaltung
END:VEVENT
BEGIN:VEVENT
DTSTART;TZID=Europe/Berlin:20220409T180000
DTEND;TZID=Europe/Berlin:20220409T180000
DTSTAMP:20260419T202702
CREATED:20220403T184519Z
LAST-MODIFIED:20220403T184519Z
UID:10595-1649527200-1649527200@sankt-bernard.ansgar-portal.de
SUMMARY:Vorabendmesse ( Jugendgottesdienst) - Pater Hammer
DESCRIPTION:
URL:https://sankt-bernard.ansgar-portal.de/event/vorabendmesse-jugendgottesdienst-pater-hammer/
CATEGORIES:Gottesdienst
END:VEVENT
END:VCALENDAR