BEGIN:VCALENDAR
VERSION:2.0
PRODID:-//Katholische Gemeinde Sankt Bernard Poppenbüttel - ECPv6.15.17.1//NONSGML v1.0//EN
CALSCALE:GREGORIAN
METHOD:PUBLISH
X-WR-CALNAME:Katholische Gemeinde Sankt Bernard Poppenbüttel
X-ORIGINAL-URL:https://sankt-bernard.ansgar-portal.de
X-WR-CALDESC:Veranstaltungen für Katholische Gemeinde Sankt Bernard Poppenbüttel
REFRESH-INTERVAL;VALUE=DURATION:PT1H
X-Robots-Tag:noindex
X-PUBLISHED-TTL:PT1H
BEGIN:VTIMEZONE
TZID:Europe/Berlin
BEGIN:DAYLIGHT
TZOFFSETFROM:+0100
TZOFFSETTO:+0200
TZNAME:CEST
DTSTART:20200329T010000
END:DAYLIGHT
BEGIN:STANDARD
TZOFFSETFROM:+0200
TZOFFSETTO:+0100
TZNAME:CET
DTSTART:20201025T010000
END:STANDARD
BEGIN:DAYLIGHT
TZOFFSETFROM:+0100
TZOFFSETTO:+0200
TZNAME:CEST
DTSTART:20210328T010000
END:DAYLIGHT
BEGIN:STANDARD
TZOFFSETFROM:+0200
TZOFFSETTO:+0100
TZNAME:CET
DTSTART:20211031T010000
END:STANDARD
BEGIN:DAYLIGHT
TZOFFSETFROM:+0100
TZOFFSETTO:+0200
TZNAME:CEST
DTSTART:20220327T010000
END:DAYLIGHT
BEGIN:STANDARD
TZOFFSETFROM:+0200
TZOFFSETTO:+0100
TZNAME:CET
DTSTART:20221030T010000
END:STANDARD
END:VTIMEZONE
BEGIN:VEVENT
DTSTART;TZID=Europe/Berlin:20211224T143000
DTEND;TZID=Europe/Berlin:20211224T143000
DTSTAMP:20260419T225005
CREATED:20211214T111026Z
LAST-MODIFIED:20211214T111026Z
UID:10141-1640356200-1640356200@sankt-bernard.ansgar-portal.de
SUMMARY:Walking Krippenfeier
DESCRIPTION:
URL:https://sankt-bernard.ansgar-portal.de/event/walking-krippenfeier/
END:VEVENT
BEGIN:VEVENT
DTSTART;TZID=Europe/Berlin:20211224T150000
DTEND;TZID=Europe/Berlin:20211224T150000
DTSTAMP:20260419T225005
CREATED:20211214T111058Z
LAST-MODIFIED:20211214T111058Z
UID:10143-1640358000-1640358000@sankt-bernard.ansgar-portal.de
SUMMARY:Walking Krippenfeier
DESCRIPTION:
URL:https://sankt-bernard.ansgar-portal.de/event/walking-krippenfeier-2/
END:VEVENT
BEGIN:VEVENT
DTSTART;TZID=Europe/Berlin:20211224T153000
DTEND;TZID=Europe/Berlin:20211224T153000
DTSTAMP:20260419T225005
CREATED:20211214T111132Z
LAST-MODIFIED:20211214T111132Z
UID:10145-1640359800-1640359800@sankt-bernard.ansgar-portal.de
SUMMARY:Walking Krippenfeier
DESCRIPTION:
URL:https://sankt-bernard.ansgar-portal.de/event/walking-krippenfeier-3/
END:VEVENT
BEGIN:VEVENT
DTSTART;TZID=Europe/Berlin:20211224T173000
DTEND;TZID=Europe/Berlin:20211224T173000
DTSTAMP:20260419T225005
CREATED:20211214T111309Z
LAST-MODIFIED:20211214T111944Z
UID:10149-1640367000-1640367000@sankt-bernard.ansgar-portal.de
SUMMARY:Vesper (2G - mit Anmeldung)
DESCRIPTION:Anmeldung hier: https://deinegemein.de/stbernard
URL:https://sankt-bernard.ansgar-portal.de/event/vesper-mit-anmeldung/
CATEGORIES:Gottesdienst
END:VEVENT
BEGIN:VEVENT
DTSTART;TZID=Europe/Berlin:20211224T223000
DTEND;TZID=Europe/Berlin:20211224T223000
DTSTAMP:20260419T225005
CREATED:20211214T111447Z
LAST-MODIFIED:20211214T111447Z
UID:10152-1640385000-1640385000@sankt-bernard.ansgar-portal.de
SUMMARY:Christmette - P. Geißler (3G - mit Anmeldung)
DESCRIPTION:Anmeldung hier: https://deinegemein.de/stbernard
URL:https://sankt-bernard.ansgar-portal.de/event/christmette-p-geissler-3g-mit-anmeldung/
CATEGORIES:Gottesdienst
END:VEVENT
END:VCALENDAR