BEGIN:VCALENDAR
VERSION:2.0
PRODID:-//Katholische Gemeinde Sankt Bernard Poppenbüttel - ECPv6.15.17.1//NONSGML v1.0//EN
CALSCALE:GREGORIAN
METHOD:PUBLISH
X-ORIGINAL-URL:https://sankt-bernard.ansgar-portal.de
X-WR-CALDESC:Veranstaltungen für Katholische Gemeinde Sankt Bernard Poppenbüttel
REFRESH-INTERVAL;VALUE=DURATION:PT1H
X-Robots-Tag:noindex
X-PUBLISHED-TTL:PT1H
BEGIN:VTIMEZONE
TZID:Europe/Berlin
BEGIN:DAYLIGHT
TZOFFSETFROM:+0100
TZOFFSETTO:+0200
TZNAME:CEST
DTSTART:20200329T010000
END:DAYLIGHT
BEGIN:STANDARD
TZOFFSETFROM:+0200
TZOFFSETTO:+0100
TZNAME:CET
DTSTART:20201025T010000
END:STANDARD
BEGIN:DAYLIGHT
TZOFFSETFROM:+0100
TZOFFSETTO:+0200
TZNAME:CEST
DTSTART:20210328T010000
END:DAYLIGHT
BEGIN:STANDARD
TZOFFSETFROM:+0200
TZOFFSETTO:+0100
TZNAME:CET
DTSTART:20211031T010000
END:STANDARD
BEGIN:DAYLIGHT
TZOFFSETFROM:+0100
TZOFFSETTO:+0200
TZNAME:CEST
DTSTART:20220327T010000
END:DAYLIGHT
BEGIN:STANDARD
TZOFFSETFROM:+0200
TZOFFSETTO:+0100
TZNAME:CET
DTSTART:20221030T010000
END:STANDARD
END:VTIMEZONE
BEGIN:VEVENT
DTSTART;TZID=Europe/Berlin:20211205T111500
DTEND;TZID=Europe/Berlin:20211205T111500
DTSTAMP:20260420T002633
CREATED:20211104T170651Z
LAST-MODIFIED:20211204T165310Z
UID:9896-1638702900-1638702900@sankt-bernard.ansgar-portal.de
SUMMARY:Hl. Messe - P. Hammer
DESCRIPTION:
URL:https://sankt-bernard.ansgar-portal.de/event/hl-messe-12/
CATEGORIES:Gottesdienst
END:VEVENT
BEGIN:VEVENT
DTSTART;TZID=Europe/Berlin:20211205T160000
DTEND;TZID=Europe/Berlin:20211205T160000
DTSTAMP:20260420T002633
CREATED:20211104T170724Z
LAST-MODIFIED:20211104T170724Z
UID:9899-1638720000-1638720000@sankt-bernard.ansgar-portal.de
SUMMARY:Andacht in ungarischer Sprache
DESCRIPTION:
URL:https://sankt-bernard.ansgar-portal.de/event/andacht-in-ungarischer-sprache-3/
CATEGORIES:Gottesdienst
END:VEVENT
BEGIN:VEVENT
DTSTART;TZID=Europe/Berlin:20211205T180000
DTEND;TZID=Europe/Berlin:20211205T180000
DTSTAMP:20260420T002633
CREATED:20211031T141726Z
LAST-MODIFIED:20211031T141726Z
UID:9806-1638727200-1638727200@sankt-bernard.ansgar-portal.de
SUMMARY:Taizé-Andacht
DESCRIPTION:
URL:https://sankt-bernard.ansgar-portal.de/event/taize-andacht-9/
CATEGORIES:Veranstaltung
END:VEVENT
BEGIN:VEVENT
DTSTART;TZID=Europe/Berlin:20211205T180000
DTEND;TZID=Europe/Berlin:20211205T180000
DTSTAMP:20260420T002633
CREATED:20211104T170757Z
LAST-MODIFIED:20211104T170757Z
UID:9902-1638727200-1638727200@sankt-bernard.ansgar-portal.de
SUMMARY:Taizé Andacht
DESCRIPTION:
URL:https://sankt-bernard.ansgar-portal.de/event/taize-andacht-12/
CATEGORIES:Gottesdienst
END:VEVENT
END:VCALENDAR