BEGIN:VCALENDAR
VERSION:2.0
PRODID:-//Katholische Gemeinde Sankt Bernard Poppenbüttel - ECPv6.15.17.1//NONSGML v1.0//EN
CALSCALE:GREGORIAN
METHOD:PUBLISH
X-WR-CALNAME:Katholische Gemeinde Sankt Bernard Poppenbüttel
X-ORIGINAL-URL:https://sankt-bernard.ansgar-portal.de
X-WR-CALDESC:Veranstaltungen für Katholische Gemeinde Sankt Bernard Poppenbüttel
REFRESH-INTERVAL;VALUE=DURATION:PT1H
X-Robots-Tag:noindex
X-PUBLISHED-TTL:PT1H
BEGIN:VTIMEZONE
TZID:Europe/Berlin
BEGIN:DAYLIGHT
TZOFFSETFROM:+0100
TZOFFSETTO:+0200
TZNAME:CEST
DTSTART:20200329T010000
END:DAYLIGHT
BEGIN:STANDARD
TZOFFSETFROM:+0200
TZOFFSETTO:+0100
TZNAME:CET
DTSTART:20201025T010000
END:STANDARD
BEGIN:DAYLIGHT
TZOFFSETFROM:+0100
TZOFFSETTO:+0200
TZNAME:CEST
DTSTART:20210328T010000
END:DAYLIGHT
BEGIN:STANDARD
TZOFFSETFROM:+0200
TZOFFSETTO:+0100
TZNAME:CET
DTSTART:20211031T010000
END:STANDARD
BEGIN:DAYLIGHT
TZOFFSETFROM:+0100
TZOFFSETTO:+0200
TZNAME:CEST
DTSTART:20220327T010000
END:DAYLIGHT
BEGIN:STANDARD
TZOFFSETFROM:+0200
TZOFFSETTO:+0100
TZNAME:CET
DTSTART:20221030T010000
END:STANDARD
END:VTIMEZONE
BEGIN:VEVENT
DTSTART;TZID=Europe/Berlin:20210530T111500
DTEND;TZID=Europe/Berlin:20210530T111500
DTSTAMP:20260419T165211
CREATED:20210513T122310Z
LAST-MODIFIED:20210513T122310Z
UID:9171-1622373300-1622373300@sankt-bernard.ansgar-portal.de
SUMMARY:Wort-Gottes-Feier
DESCRIPTION:
URL:https://sankt-bernard.ansgar-portal.de/event/wort-gottes-feier-2/
CATEGORIES:Gottesdienst
END:VEVENT
BEGIN:VEVENT
DTSTART;TZID=Europe/Berlin:20210530T180000
DTEND;TZID=Europe/Berlin:20210530T180000
DTSTAMP:20260419T165211
CREATED:20210303T202550Z
LAST-MODIFIED:20210303T202550Z
UID:8826-1622397600-1622397600@sankt-bernard.ansgar-portal.de
SUMMARY:Taizé-Andacht
DESCRIPTION:
URL:https://sankt-bernard.ansgar-portal.de/event/taize-andacht-3/
CATEGORIES:Veranstaltung
END:VEVENT
BEGIN:VEVENT
DTSTART;TZID=Europe/Berlin:20210530T180000
DTEND;TZID=Europe/Berlin:20210530T180000
DTSTAMP:20260419T165211
CREATED:20210521T054742Z
LAST-MODIFIED:20210521T054742Z
UID:9270-1622397600-1622397600@sankt-bernard.ansgar-portal.de
SUMMARY:Taizé-Andacht
DESCRIPTION:
URL:https://sankt-bernard.ansgar-portal.de/event/taize-andacht-4/
CATEGORIES:Musik,Veranstaltung
END:VEVENT
END:VCALENDAR