BEGIN:VCALENDAR
VERSION:2.0
PRODID:-//Katholische Gemeinde Sankt Bernard Poppenbüttel - ECPv6.15.17.1//NONSGML v1.0//EN
CALSCALE:GREGORIAN
METHOD:PUBLISH
X-ORIGINAL-URL:https://sankt-bernard.ansgar-portal.de
X-WR-CALDESC:Veranstaltungen für Katholische Gemeinde Sankt Bernard Poppenbüttel
REFRESH-INTERVAL;VALUE=DURATION:PT1H
X-Robots-Tag:noindex
X-PUBLISHED-TTL:PT1H
BEGIN:VTIMEZONE
TZID:Europe/Berlin
BEGIN:DAYLIGHT
TZOFFSETFROM:+0100
TZOFFSETTO:+0200
TZNAME:CEST
DTSTART:20190331T010000
END:DAYLIGHT
BEGIN:STANDARD
TZOFFSETFROM:+0200
TZOFFSETTO:+0100
TZNAME:CET
DTSTART:20191027T010000
END:STANDARD
BEGIN:DAYLIGHT
TZOFFSETFROM:+0100
TZOFFSETTO:+0200
TZNAME:CEST
DTSTART:20200329T010000
END:DAYLIGHT
BEGIN:STANDARD
TZOFFSETFROM:+0200
TZOFFSETTO:+0100
TZNAME:CET
DTSTART:20201025T010000
END:STANDARD
BEGIN:DAYLIGHT
TZOFFSETFROM:+0100
TZOFFSETTO:+0200
TZNAME:CEST
DTSTART:20210328T010000
END:DAYLIGHT
BEGIN:STANDARD
TZOFFSETFROM:+0200
TZOFFSETTO:+0100
TZNAME:CET
DTSTART:20211031T010000
END:STANDARD
END:VTIMEZONE
BEGIN:VEVENT
DTSTART;TZID=Europe/Berlin:20200319T150000
DTEND;TZID=Europe/Berlin:20200319T150000
DTSTAMP:20260419T164125
CREATED:20200314T155655Z
LAST-MODIFIED:20200314T155655Z
UID:7394-1584630000-1584630000@sankt-bernard.ansgar-portal.de
SUMMARY:Seniorennachmittag\, beginnend mit einer Hl. Messe – Pater Winkens
DESCRIPTION:
URL:https://sankt-bernard.ansgar-portal.de/event/seniorennachmittag-beginnend-mit-einer-hl-messe-pater-winkens/
CATEGORIES:Veranstaltung
END:VEVENT
BEGIN:VEVENT
DTSTART;TZID=Europe/Berlin:20200319T183000
DTEND;TZID=Europe/Berlin:20200319T183000
DTSTAMP:20260419T164125
CREATED:20200314T155814Z
LAST-MODIFIED:20200314T155814Z
UID:7396-1584642600-1584642600@sankt-bernard.ansgar-portal.de
SUMMARY:Firmvorbereitung
DESCRIPTION:
URL:https://sankt-bernard.ansgar-portal.de/event/firmvorbereitung-30/
LOCATION:Gemeindekeller
CATEGORIES:Veranstaltung
END:VEVENT
BEGIN:VEVENT
DTSTART;TZID=Europe/Berlin:20200319T201500
DTEND;TZID=Europe/Berlin:20200319T201500
DTSTAMP:20260419T164125
CREATED:20200314T155919Z
LAST-MODIFIED:20200314T155919Z
UID:7398-1584648900-1584648900@sankt-bernard.ansgar-portal.de
SUMMARY:Elterntreffen zur Firmvorbereitung
DESCRIPTION:
URL:https://sankt-bernard.ansgar-portal.de/event/elterntreffen-zur-firmvorbereitung/
CATEGORIES:Veranstaltung
END:VEVENT
END:VCALENDAR