BEGIN:VCALENDAR
VERSION:2.0
PRODID:-//Katholische Gemeinde Sankt Bernard Poppenbüttel - ECPv6.15.17.1//NONSGML v1.0//EN
CALSCALE:GREGORIAN
METHOD:PUBLISH
X-WR-CALNAME:Katholische Gemeinde Sankt Bernard Poppenbüttel
X-ORIGINAL-URL:https://sankt-bernard.ansgar-portal.de
X-WR-CALDESC:Veranstaltungen für Katholische Gemeinde Sankt Bernard Poppenbüttel
REFRESH-INTERVAL;VALUE=DURATION:PT1H
X-Robots-Tag:noindex
X-PUBLISHED-TTL:PT1H
BEGIN:VTIMEZONE
TZID:Europe/Berlin
BEGIN:DAYLIGHT
TZOFFSETFROM:+0100
TZOFFSETTO:+0200
TZNAME:CEST
DTSTART:20180325T010000
END:DAYLIGHT
BEGIN:STANDARD
TZOFFSETFROM:+0200
TZOFFSETTO:+0100
TZNAME:CET
DTSTART:20181028T010000
END:STANDARD
BEGIN:DAYLIGHT
TZOFFSETFROM:+0100
TZOFFSETTO:+0200
TZNAME:CEST
DTSTART:20190331T010000
END:DAYLIGHT
BEGIN:STANDARD
TZOFFSETFROM:+0200
TZOFFSETTO:+0100
TZNAME:CET
DTSTART:20191027T010000
END:STANDARD
BEGIN:DAYLIGHT
TZOFFSETFROM:+0100
TZOFFSETTO:+0200
TZNAME:CEST
DTSTART:20200329T010000
END:DAYLIGHT
BEGIN:STANDARD
TZOFFSETFROM:+0200
TZOFFSETTO:+0100
TZNAME:CET
DTSTART:20201025T010000
END:STANDARD
END:VTIMEZONE
BEGIN:VEVENT
DTSTART;TZID=Europe/Berlin:20191116T150000
DTEND;TZID=Europe/Berlin:20191116T150000
DTSTAMP:20260422T120509
CREATED:20190720T183903Z
LAST-MODIFIED:20190720T183903Z
UID:5894-1573916400-1573916400@sankt-bernard.ansgar-portal.de
SUMMARY:Café St. Bernard
DESCRIPTION:
URL:https://sankt-bernard.ansgar-portal.de/event/cafe-st-bernard-22/
CATEGORIES:Veranstaltung
ATTACH;FMTTYPE=image/gif:https://sankt-bernard.ansgar-portal.de/wp-content/blogs.dir/16/files/sites/16/2018/01/Cafe_St_Bernard_bearbeitet-4.gif
END:VEVENT
BEGIN:VEVENT
DTSTART;TZID=Europe/Berlin:20191116T153000
DTEND;TZID=Europe/Berlin:20191116T153000
DTSTAMP:20260422T120509
CREATED:20191110T144112Z
LAST-MODIFIED:20191110T144112Z
UID:6606-1573918200-1573918200@sankt-bernard.ansgar-portal.de
SUMMARY:Spielekreis
DESCRIPTION:
URL:https://sankt-bernard.ansgar-portal.de/event/spielekreis-19/
LOCATION:Konferenzraum
CATEGORIES:Veranstaltung
END:VEVENT
BEGIN:VEVENT
DTSTART;TZID=Europe/Berlin:20191116T173000
DTEND;TZID=Europe/Berlin:20191116T173000
DTSTAMP:20260422T120509
CREATED:20191110T144152Z
LAST-MODIFIED:20191110T144152Z
UID:6608-1573925400-1573925400@sankt-bernard.ansgar-portal.de
SUMMARY:Beichtgelegenheit
DESCRIPTION:
URL:https://sankt-bernard.ansgar-portal.de/event/beichtgelegenheit-53/
CATEGORIES:Veranstaltung
END:VEVENT
BEGIN:VEVENT
DTSTART;TZID=Europe/Berlin:20191116T180000
DTEND;TZID=Europe/Berlin:20191116T180000
DTSTAMP:20260422T120509
CREATED:20191110T144242Z
LAST-MODIFIED:20191110T144242Z
UID:6610-1573927200-1573927200@sankt-bernard.ansgar-portal.de
SUMMARY:Vorabendmesse - Pater Ante Jonjic
DESCRIPTION:
URL:https://sankt-bernard.ansgar-portal.de/event/vorabendmesse-pater-ante-jonjic-9/
CATEGORIES:Gottesdienst
END:VEVENT
END:VCALENDAR