BEGIN:VCALENDAR
VERSION:2.0
PRODID:-//Katholische Gemeinde Sankt Bernard Poppenbüttel - ECPv6.15.17.1//NONSGML v1.0//EN
CALSCALE:GREGORIAN
METHOD:PUBLISH
X-WR-CALNAME:Katholische Gemeinde Sankt Bernard Poppenbüttel
X-ORIGINAL-URL:https://sankt-bernard.ansgar-portal.de
X-WR-CALDESC:Veranstaltungen für Katholische Gemeinde Sankt Bernard Poppenbüttel
REFRESH-INTERVAL;VALUE=DURATION:PT1H
X-Robots-Tag:noindex
X-PUBLISHED-TTL:PT1H
BEGIN:VTIMEZONE
TZID:Europe/Berlin
BEGIN:DAYLIGHT
TZOFFSETFROM:+0100
TZOFFSETTO:+0200
TZNAME:CEST
DTSTART:20180325T010000
END:DAYLIGHT
BEGIN:STANDARD
TZOFFSETFROM:+0200
TZOFFSETTO:+0100
TZNAME:CET
DTSTART:20181028T010000
END:STANDARD
BEGIN:DAYLIGHT
TZOFFSETFROM:+0100
TZOFFSETTO:+0200
TZNAME:CEST
DTSTART:20190331T010000
END:DAYLIGHT
BEGIN:STANDARD
TZOFFSETFROM:+0200
TZOFFSETTO:+0100
TZNAME:CET
DTSTART:20191027T010000
END:STANDARD
BEGIN:DAYLIGHT
TZOFFSETFROM:+0100
TZOFFSETTO:+0200
TZNAME:CEST
DTSTART:20200329T010000
END:DAYLIGHT
BEGIN:STANDARD
TZOFFSETFROM:+0200
TZOFFSETTO:+0100
TZNAME:CET
DTSTART:20201025T010000
END:STANDARD
END:VTIMEZONE
BEGIN:VEVENT
DTSTART;TZID=Europe/Berlin:20190623T103000
DTEND;TZID=Europe/Berlin:20190623T103000
DTSTAMP:20260423T173155
CREATED:20190618T212252Z
LAST-MODIFIED:20190618T213140Z
UID:5691-1561285800-1561285800@sankt-bernard.ansgar-portal.de
SUMMARY:Patronatsfest Seliger Johannes Prassek und Fronleichnam: Hl. Messe 10:30 !!
DESCRIPTION:Pater Winkens\, Priester und Diakon
URL:https://sankt-bernard.ansgar-portal.de/event/patronatsfest-seliger-johannes-prassek-und-fronleichnam-hl-messe/
CATEGORIES:Gottesdienst,Veranstaltung
ATTACH;FMTTYPE=image/png:https://sankt-bernard.ansgar-portal.de/wp-content/blogs.dir/16/files/sites/16/2019/06/Logo-Patrozinium.png
END:VEVENT
END:VCALENDAR