BEGIN:VCALENDAR
VERSION:2.0
PRODID:-//Katholische Gemeinde Sankt Bernard Poppenbüttel - ECPv6.15.17.1//NONSGML v1.0//EN
CALSCALE:GREGORIAN
METHOD:PUBLISH
X-ORIGINAL-URL:https://sankt-bernard.ansgar-portal.de
X-WR-CALDESC:Veranstaltungen für Katholische Gemeinde Sankt Bernard Poppenbüttel
REFRESH-INTERVAL;VALUE=DURATION:PT1H
X-Robots-Tag:noindex
X-PUBLISHED-TTL:PT1H
BEGIN:VTIMEZONE
TZID:Europe/Berlin
BEGIN:DAYLIGHT
TZOFFSETFROM:+0100
TZOFFSETTO:+0200
TZNAME:CEST
DTSTART:20180325T010000
END:DAYLIGHT
BEGIN:STANDARD
TZOFFSETFROM:+0200
TZOFFSETTO:+0100
TZNAME:CET
DTSTART:20181028T010000
END:STANDARD
BEGIN:DAYLIGHT
TZOFFSETFROM:+0100
TZOFFSETTO:+0200
TZNAME:CEST
DTSTART:20190331T010000
END:DAYLIGHT
BEGIN:STANDARD
TZOFFSETFROM:+0200
TZOFFSETTO:+0100
TZNAME:CET
DTSTART:20191027T010000
END:STANDARD
BEGIN:DAYLIGHT
TZOFFSETFROM:+0100
TZOFFSETTO:+0200
TZNAME:CEST
DTSTART:20200329T010000
END:DAYLIGHT
BEGIN:STANDARD
TZOFFSETFROM:+0200
TZOFFSETTO:+0100
TZNAME:CET
DTSTART:20201025T010000
END:STANDARD
END:VTIMEZONE
BEGIN:VEVENT
DTSTART;TZID=Europe/Berlin:20190608T120000
DTEND;TZID=Europe/Berlin:20190608T120000
DTSTAMP:20260423T160437
CREATED:20190524T210240Z
LAST-MODIFIED:20190524T210240Z
UID:5606-1559995200-1559995200@sankt-bernard.ansgar-portal.de
SUMMARY:Firmung Gruppe 1 – Weihbischof Eberlein und Pater Ivan Kuterovac
DESCRIPTION:
URL:https://sankt-bernard.ansgar-portal.de/event/firmung-gruppe-1-weihbischof-eberlein-und-pater-ivan-kuterovac/
CATEGORIES:Gottesdienst
END:VEVENT
BEGIN:VEVENT
DTSTART;TZID=Europe/Berlin:20190608T153000
DTEND;TZID=Europe/Berlin:20190608T153000
DTSTAMP:20260423T160437
CREATED:20190524T205933Z
LAST-MODIFIED:20190524T205933Z
UID:5608-1560007800-1560007800@sankt-bernard.ansgar-portal.de
SUMMARY:Spielekreis
DESCRIPTION:
URL:https://sankt-bernard.ansgar-portal.de/event/spielekreis-13/
LOCATION:Konferenzraum
CATEGORIES:Veranstaltung
END:VEVENT
BEGIN:VEVENT
DTSTART;TZID=Europe/Berlin:20190608T170000
DTEND;TZID=Europe/Berlin:20190608T170000
DTSTAMP:20260423T160437
CREATED:20190524T210240Z
LAST-MODIFIED:20190524T210240Z
UID:5610-1560013200-1560013200@sankt-bernard.ansgar-portal.de
SUMMARY:Firmung Gruppe 2 – Weihbischof Eberlein und Pater Winkens → Die Vorabendmesse entfällt heute!
DESCRIPTION:
URL:https://sankt-bernard.ansgar-portal.de/event/firmung-gruppe-2-weihbischof-eberlein-und-pater-winkens-%e2%86%92-die-vorabendmesse-entfaellt-heute/
CATEGORIES:Gottesdienst
END:VEVENT
END:VCALENDAR